BEGIN:VCALENDAR
PRODID:-//IONAS//TVM//DE
VERSION:2.0
CALSCALE:GREGORIAN
BEGIN:VTIMEZONE
TZID:Europe/Berlin
LAST-MODIFIED:20201010T011803Z
TZURL:http://tzurl.org/zoneinfo/Europe/Berlin
X-LIC-LOCATION:Europe/Berlin
X-PROLEPTIC-TZNAME:LMT
BEGIN:STANDARD
TZNAME:CET
TZOFFSETFROM:+005328
TZOFFSETTO:+0100
DTSTART:18930401T000000
END:STANDARD
BEGIN:DAYLIGHT
TZNAME:CEST
TZOFFSETFROM:+0100
TZOFFSETTO:+0200
DTSTART:19160430T230000
RDATE:19400401T020000
RDATE:19430329T020000
RDATE:19460414T020000
RDATE:19470406T030000
RDATE:19480418T020000
RDATE:19490410T020000
RDATE:19800406T020000
END:DAYLIGHT
BEGIN:STANDARD
TZNAME:CET
TZOFFSETFROM:+0200
TZOFFSETTO:+0100
DTSTART:19161001T010000
RDATE:19421102T030000
RDATE:19431004T030000
RDATE:19441002T030000
RDATE:19451118T030000
RDATE:19461007T030000
END:STANDARD
BEGIN:DAYLIGHT
TZNAME:CEST
TZOFFSETFROM:+0100
TZOFFSETTO:+0200
DTSTART:19170416T020000
RRULE:FREQ=YEARLY;UNTIL=19180415T010000Z;BYMONTH=4;BYDAY=3MO
END:DAYLIGHT
BEGIN:STANDARD
TZNAME:CET
TZOFFSETFROM:+0200
TZOFFSETTO:+0100
DTSTART:19170917T030000
RRULE:FREQ=YEARLY;UNTIL=19180916T010000Z;BYMONTH=9;BYDAY=3MO
END:STANDARD
BEGIN:DAYLIGHT
TZNAME:CEST
TZOFFSETFROM:+0100
TZOFFSETTO:+0200
DTSTART:19440403T020000
RRULE:FREQ=YEARLY;UNTIL=19450402T010000Z;BYMONTH=4;BYDAY=1MO
END:DAYLIGHT
BEGIN:DAYLIGHT
TZNAME:CEMT
TZOFFSETFROM:+0200
TZOFFSETTO:+0300
DTSTART:19450524T020000
RDATE:19470511T030000
END:DAYLIGHT
BEGIN:DAYLIGHT
TZNAME:CEST
TZOFFSETFROM:+0300
TZOFFSETTO:+0200
DTSTART:19450924T030000
RDATE:19470629T030000
END:DAYLIGHT
BEGIN:STANDARD
TZNAME:CET
TZOFFSETFROM:+0100
TZOFFSETTO:+0100
DTSTART:19460101T000000
RDATE:19800101T000000
END:STANDARD
BEGIN:STANDARD
TZNAME:CET
TZOFFSETFROM:+0200
TZOFFSETTO:+0100
DTSTART:19471005T030000
RRULE:FREQ=YEARLY;UNTIL=19491002T010000Z;BYMONTH=10;BYDAY=1SU
END:STANDARD
BEGIN:STANDARD
TZNAME:CET
TZOFFSETFROM:+0200
TZOFFSETTO:+0100
DTSTART:19800928T030000
RRULE:FREQ=YEARLY;UNTIL=19950924T010000Z;BYMONTH=9;BYDAY=-1SU
END:STANDARD
BEGIN:DAYLIGHT
TZNAME:CEST
TZOFFSETFROM:+0100
TZOFFSETTO:+0200
DTSTART:19810329T020000
RRULE:FREQ=YEARLY;BYMONTH=3;BYDAY=-1SU
END:DAYLIGHT
BEGIN:STANDARD
TZNAME:CET
TZOFFSETFROM:+0200
TZOFFSETTO:+0100
DTSTART:19961027T030000
RRULE:FREQ=YEARLY;BYMONTH=10;BYDAY=-1SU
END:STANDARD
END:VTIMEZONE
BEGIN:VEVENT
DTSTAMP:20260423T104734Z
DTSTART;TZID=Europe/Berlin:20260428T180000
DTEND;TZID=Europe/Berlin:20260428T200000
SUMMARY:Konzert Andy Borg
CREATED:20260421T104442Z
LAST-MODIFIED:20260421T104442Z
DESCRIPTION:Thomann Künstler Management bringt zusammen was zusammengehör
 t: Schlager und Spaß! Und wer könnte das besser verkörpern als die Schla
 gerikone mit garantiertem Spaßfaktor. Genau! Die Rede ist von Andy Borg 
 persönlich. Zusammen mit seinen Gästen bringt er den Spaß zurück in die 
 Hallen Deutschlands und zelebriert Schlager von einem anderen Stern.\n\n
 \nUnzählige Hits wie „Die berühmten drei Worte“\, „Adios Amor“\, oder „D
 ie Fischer von San Juan“ sind der Soundtrack einer einmaligen musikalisc
 hen Karriere\, die Andy Borg als personifizierten Evergreen auf den euro
 päischen Musikbühnen auszeichnen. Schlagfertig\, wortgewitzt und in den 
 seltensten Fällen um eine Antwort verlegen\, feiert Andy Borg dieses Jah
 r sein vierzigjähriges Bühnenjubiläum. Nun kommt nach der Schlagerparade
  der Volksmusik\, dem MUSIKANTENSTADL und der Stadlzeit der neueste Erfo
 lgsgarant von Andy Borg: Schlager und Spaß!\n\n\nUnterstützt wird er dab
 ei von verschiedenen Künstlern aus dem Schlagerbereich. Egal ob langjähr
 iger Wegbegleiter oder aufstrebender Newcomer\, die Zuschauer können sic
 h hier auf eine ganz besondere Showbesetzung freuen und einen einzigarti
 gen Abend erleben.\nEine geballte Ladung Schlager und eine große Portion
  fetzige Schlagerstimmung\, die vor allem eines verspricht: Spaß!\nSiche
 rn Sie sich gute Laune\, gute Stimmung und ein einzigartiges Showerlebni
 s und kaufen Sie bereits jetzt Ihre Tickets für diesen besonderen Abend.
 \n\n\nTickets an allen bekannten Vorverkaufsstellen.\nEinlaß ab 17:00Uhr
 
LOCATION:Stadhalle Friedberg
X-LOCATION-NAME:Stadhalle Friedberg
X-STREET-ADDRESS:Am Seebach 2
X-POSTAL-CODE:61169
X-LOCALITY:Friedberg
ORGANIZER;CN="Thomann Künstler Management GmbH":mailto:entdecke@friedberg
 -hessen.de
X-ORGANIZER-NAME:Thomann Künstler Management GmbH
X-ORGANIZER-EMAIL:entdecke@friedberg-hessen.de
X-ORGANIZER-TELEPHONE:+49 9546 94490
X-ORGANIZER-FAXNUMBER: +49 9546 6844
CONTACT:Stadthalle  Friedberg\,+49 6031 88600
X-CONTACT-GIVEN-NAME:Stadthalle
X-CONTACT-FAMILY-NAME: Friedberg
X-CONTACT-TELEPHONE:+49 6031 88600
X-IONAS-CATEGORY:Konzert
CATEGORIES:Konzert
ATTACH;FMTTYPE=image/png:https://www.friedberg-hessen.de/de/kalender/geme
 ldete-termine-extern/2026-04-28-konzert-andy-borg/showcropimage.png?cid=
 4ks.19mv
UID:ec59ad3f-a3b1-449d-ae2f-61080bc7d9c2:2026-04-28
X-PRICE:Keine Angabe
END:VEVENT
END:VCALENDAR
