BEGIN:VCALENDAR
PRODID:-//IONAS//TVM//DE
VERSION:2.0
CALSCALE:GREGORIAN
BEGIN:VTIMEZONE
TZID:Europe/Berlin
LAST-MODIFIED:20201010T011803Z
TZURL:http://tzurl.org/zoneinfo/Europe/Berlin
X-LIC-LOCATION:Europe/Berlin
X-PROLEPTIC-TZNAME:LMT
BEGIN:STANDARD
TZNAME:CET
TZOFFSETFROM:+005328
TZOFFSETTO:+0100
DTSTART:18930401T000000
END:STANDARD
BEGIN:DAYLIGHT
TZNAME:CEST
TZOFFSETFROM:+0100
TZOFFSETTO:+0200
DTSTART:19160430T230000
RDATE:19400401T020000
RDATE:19430329T020000
RDATE:19460414T020000
RDATE:19470406T030000
RDATE:19480418T020000
RDATE:19490410T020000
RDATE:19800406T020000
END:DAYLIGHT
BEGIN:STANDARD
TZNAME:CET
TZOFFSETFROM:+0200
TZOFFSETTO:+0100
DTSTART:19161001T010000
RDATE:19421102T030000
RDATE:19431004T030000
RDATE:19441002T030000
RDATE:19451118T030000
RDATE:19461007T030000
END:STANDARD
BEGIN:DAYLIGHT
TZNAME:CEST
TZOFFSETFROM:+0100
TZOFFSETTO:+0200
DTSTART:19170416T020000
RRULE:FREQ=YEARLY;UNTIL=19180415T010000Z;BYMONTH=4;BYDAY=3MO
END:DAYLIGHT
BEGIN:STANDARD
TZNAME:CET
TZOFFSETFROM:+0200
TZOFFSETTO:+0100
DTSTART:19170917T030000
RRULE:FREQ=YEARLY;UNTIL=19180916T010000Z;BYMONTH=9;BYDAY=3MO
END:STANDARD
BEGIN:DAYLIGHT
TZNAME:CEST
TZOFFSETFROM:+0100
TZOFFSETTO:+0200
DTSTART:19440403T020000
RRULE:FREQ=YEARLY;UNTIL=19450402T010000Z;BYMONTH=4;BYDAY=1MO
END:DAYLIGHT
BEGIN:DAYLIGHT
TZNAME:CEMT
TZOFFSETFROM:+0200
TZOFFSETTO:+0300
DTSTART:19450524T020000
RDATE:19470511T030000
END:DAYLIGHT
BEGIN:DAYLIGHT
TZNAME:CEST
TZOFFSETFROM:+0300
TZOFFSETTO:+0200
DTSTART:19450924T030000
RDATE:19470629T030000
END:DAYLIGHT
BEGIN:STANDARD
TZNAME:CET
TZOFFSETFROM:+0100
TZOFFSETTO:+0100
DTSTART:19460101T000000
RDATE:19800101T000000
END:STANDARD
BEGIN:STANDARD
TZNAME:CET
TZOFFSETFROM:+0200
TZOFFSETTO:+0100
DTSTART:19471005T030000
RRULE:FREQ=YEARLY;UNTIL=19491002T010000Z;BYMONTH=10;BYDAY=1SU
END:STANDARD
BEGIN:STANDARD
TZNAME:CET
TZOFFSETFROM:+0200
TZOFFSETTO:+0100
DTSTART:19800928T030000
RRULE:FREQ=YEARLY;UNTIL=19950924T010000Z;BYMONTH=9;BYDAY=-1SU
END:STANDARD
BEGIN:DAYLIGHT
TZNAME:CEST
TZOFFSETFROM:+0100
TZOFFSETTO:+0200
DTSTART:19810329T020000
RRULE:FREQ=YEARLY;BYMONTH=3;BYDAY=-1SU
END:DAYLIGHT
BEGIN:STANDARD
TZNAME:CET
TZOFFSETFROM:+0200
TZOFFSETTO:+0100
DTSTART:19961027T030000
RRULE:FREQ=YEARLY;BYMONTH=10;BYDAY=-1SU
END:STANDARD
END:VTIMEZONE
BEGIN:VEVENT
DTSTAMP:20260423T105452Z
DTSTART;TZID=Europe/Berlin:20260710T190000
DTEND;TZID=Europe/Berlin:20260710T235959
SUMMARY:Friedberg Open Air - Mark Forster
CREATED:20260421T120419Z
LAST-MODIFIED:20260421T120419Z
DESCRIPTION:Freitag 10. Juli\, 19:00 Uhr\nMark Forster - Sommer Shows 202
 6\n\nDie Friedberger Seewiese – parallel zur geschäftigen Kaiserstraße –
  ist ein Erholungsgebiet für die komplette Familie und Schauplatz großer
  kultureller und gesellschaftlicher Veranstaltungen. Der Friedberg Open 
 Air Sommer hat sich mittlerweile zu einem der größten Publikumsmagnete d
 er Wetterau entwickelt\n– mitten in der Kreisstadt Friedberg.\n\nMehr In
 fos auf www.friedberg-openair.de\n\nhttps://tickets.friedberg-openair.de
 /\n\nKonzertbüro Bahl I Mit Unterstützung der Stadverwaltung Friedberg (
 Hessen)
LOCATION:Seewiese
X-LOCATION-NAME:Seewiese
ORGANIZER;CN="Konzertbüro Bahl I Mit Unterstützung der Stadverwaltung Fri
 edberg (Hessen)":mailto:kulturservice@friedberg-hessen.de
X-ORGANIZER-NAME:Konzertbüro Bahl I Mit Unterstützung der Stadverwaltung 
 Friedberg (Hessen)
X-ORGANIZER-EMAIL:kulturservice@friedberg-hessen.de
X-ORGANIZER-WEBSITE:https://tickets.friedberg-openair.de/
URL:https://tickets.friedberg-openair.de/
X-IONAS-CATEGORY:Konzert
CATEGORIES:Konzert
ATTACH;FMTTYPE=image/jpeg:https://www.friedberg-hessen.de/de/kalender/gem
 eldete-termine-extern/2026-07-10-friedberg-open-air-mark-forster/csm-t-m
 ark-forster-friedberg-303d791df1.jpg?cid=4l1.19wj
UID:7be8d211-3c50-40ed-a1a1-cb337f1a5d7c:2026-07-10
X-PRICE:Keine Angabe
END:VEVENT
END:VCALENDAR
