BEGIN:VCALENDAR
PRODID:-//IONAS//TVM//DE
VERSION:2.0
CALSCALE:GREGORIAN
BEGIN:VTIMEZONE
TZID:Europe/Berlin
LAST-MODIFIED:20201010T011803Z
TZURL:http://tzurl.org/zoneinfo/Europe/Berlin
X-LIC-LOCATION:Europe/Berlin
X-PROLEPTIC-TZNAME:LMT
BEGIN:STANDARD
TZNAME:CET
TZOFFSETFROM:+005328
TZOFFSETTO:+0100
DTSTART:18930401T000000
END:STANDARD
BEGIN:DAYLIGHT
TZNAME:CEST
TZOFFSETFROM:+0100
TZOFFSETTO:+0200
DTSTART:19160430T230000
RDATE:19400401T020000
RDATE:19430329T020000
RDATE:19460414T020000
RDATE:19470406T030000
RDATE:19480418T020000
RDATE:19490410T020000
RDATE:19800406T020000
END:DAYLIGHT
BEGIN:STANDARD
TZNAME:CET
TZOFFSETFROM:+0200
TZOFFSETTO:+0100
DTSTART:19161001T010000
RDATE:19421102T030000
RDATE:19431004T030000
RDATE:19441002T030000
RDATE:19451118T030000
RDATE:19461007T030000
END:STANDARD
BEGIN:DAYLIGHT
TZNAME:CEST
TZOFFSETFROM:+0100
TZOFFSETTO:+0200
DTSTART:19170416T020000
RRULE:FREQ=YEARLY;UNTIL=19180415T010000Z;BYMONTH=4;BYDAY=3MO
END:DAYLIGHT
BEGIN:STANDARD
TZNAME:CET
TZOFFSETFROM:+0200
TZOFFSETTO:+0100
DTSTART:19170917T030000
RRULE:FREQ=YEARLY;UNTIL=19180916T010000Z;BYMONTH=9;BYDAY=3MO
END:STANDARD
BEGIN:DAYLIGHT
TZNAME:CEST
TZOFFSETFROM:+0100
TZOFFSETTO:+0200
DTSTART:19440403T020000
RRULE:FREQ=YEARLY;UNTIL=19450402T010000Z;BYMONTH=4;BYDAY=1MO
END:DAYLIGHT
BEGIN:DAYLIGHT
TZNAME:CEMT
TZOFFSETFROM:+0200
TZOFFSETTO:+0300
DTSTART:19450524T020000
RDATE:19470511T030000
END:DAYLIGHT
BEGIN:DAYLIGHT
TZNAME:CEST
TZOFFSETFROM:+0300
TZOFFSETTO:+0200
DTSTART:19450924T030000
RDATE:19470629T030000
END:DAYLIGHT
BEGIN:STANDARD
TZNAME:CET
TZOFFSETFROM:+0100
TZOFFSETTO:+0100
DTSTART:19460101T000000
RDATE:19800101T000000
END:STANDARD
BEGIN:STANDARD
TZNAME:CET
TZOFFSETFROM:+0200
TZOFFSETTO:+0100
DTSTART:19471005T030000
RRULE:FREQ=YEARLY;UNTIL=19491002T010000Z;BYMONTH=10;BYDAY=1SU
END:STANDARD
BEGIN:STANDARD
TZNAME:CET
TZOFFSETFROM:+0200
TZOFFSETTO:+0100
DTSTART:19800928T030000
RRULE:FREQ=YEARLY;UNTIL=19950924T010000Z;BYMONTH=9;BYDAY=-1SU
END:STANDARD
BEGIN:DAYLIGHT
TZNAME:CEST
TZOFFSETFROM:+0100
TZOFFSETTO:+0200
DTSTART:19810329T020000
RRULE:FREQ=YEARLY;BYMONTH=3;BYDAY=-1SU
END:DAYLIGHT
BEGIN:STANDARD
TZNAME:CET
TZOFFSETFROM:+0200
TZOFFSETTO:+0100
DTSTART:19961027T030000
RRULE:FREQ=YEARLY;BYMONTH=10;BYDAY=-1SU
END:STANDARD
END:VTIMEZONE
BEGIN:VEVENT
DTSTAMP:20260423T105519Z
DTSTART;TZID=Europe/Berlin:20260712T193000
DTEND;TZID=Europe/Berlin:20260712T235959
SUMMARY:Friedberg Open Air - Roland Kaiser 
CREATED:20260421T134305Z
LAST-MODIFIED:20260421T134305Z
DESCRIPTION:Sonntag 12. Juli\, 19:30 Uhr\nRoland Kaiser - Der Kaiser gibt
  sich die Ehre\n\nDie Friedberger Seewiese – parallel zur geschäftigen K
 aiserstraße – ist ein Erholungsgebiet für die komplette Familie und Scha
 uplatz großer kultureller und gesellschaftlicher Veranstaltungen. Der Fr
 iedberg Open Air Sommer hat sich mittlerweile zu einem der größten Publi
 kumsmagnete der Wetterau entwickelt\n– mitten in der Kreisstadt Friedber
 g.\n\nMehr Infos auf www.friedberg-openair.de
LOCATION:Seewiese
X-LOCATION-NAME:Seewiese
ORGANIZER;CN="Konzertbüro Bahl I Mit Unterstützung der Stadtverwaltung Fr
 iedberg (Hessen)":mailto:kulturservice@friedberg-hessen.de
X-ORGANIZER-NAME:Konzertbüro Bahl I Mit Unterstützung der Stadtverwaltung
  Friedberg (Hessen)
X-ORGANIZER-EMAIL:kulturservice@friedberg-hessen.de
X-ORGANIZER-WEBSITE:https://tickets.friedberg-openair.de/
URL:https://tickets.friedberg-openair.de/
X-IONAS-CATEGORY:Konzert
CATEGORIES:Konzert
ATTACH;FMTTYPE=image/png:https://www.friedberg-hessen.de/de/kalender/geme
 ldete-termine-extern/2026-07-12-friedberg-open-air-roland-kaiser/screens
 hot-2026-04-21-at-15-36-49-instagram.png?cid=4lp.1a5s
UID:319a1062-2c78-4f1e-8a78-7969d8b1396a:2026-07-12
X-PRICE:Keine Angabe
END:VEVENT
END:VCALENDAR
