BEGIN:VCALENDAR
PRODID:-//Ben Fortuna//iCal4j 1.0//EN
VERSION:2.0
CALSCALE:GREGORIAN
BEGIN:VTIMEZONE
TZID:Europe/Berlin
LAST-MODIFIED:20201010T011803Z
TZURL:http://tzurl.org/zoneinfo/Europe/Berlin
X-LIC-LOCATION:Europe/Berlin
X-PROLEPTIC-TZNAME:LMT
BEGIN:STANDARD
TZNAME:CET
TZOFFSETFROM:+005328
TZOFFSETTO:+0100
DTSTART:18930401T000000
END:STANDARD
BEGIN:DAYLIGHT
TZNAME:CEST
TZOFFSETFROM:+0100
TZOFFSETTO:+0200
DTSTART:19160430T230000
RDATE:19400401T020000
RDATE:19430329T020000
RDATE:19460414T020000
RDATE:19470406T030000
RDATE:19480418T020000
RDATE:19490410T020000
RDATE:19800406T020000
END:DAYLIGHT
BEGIN:STANDARD
TZNAME:CET
TZOFFSETFROM:+0200
TZOFFSETTO:+0100
DTSTART:19161001T010000
RDATE:19421102T030000
RDATE:19431004T030000
RDATE:19441002T030000
RDATE:19451118T030000
RDATE:19461007T030000
END:STANDARD
BEGIN:DAYLIGHT
TZNAME:CEST
TZOFFSETFROM:+0100
TZOFFSETTO:+0200
DTSTART:19170416T020000
RRULE:FREQ=YEARLY;UNTIL=19180415T010000Z;BYMONTH=4;BYDAY=3MO
END:DAYLIGHT
BEGIN:STANDARD
TZNAME:CET
TZOFFSETFROM:+0200
TZOFFSETTO:+0100
DTSTART:19170917T030000
RRULE:FREQ=YEARLY;UNTIL=19180916T010000Z;BYMONTH=9;BYDAY=3MO
END:STANDARD
BEGIN:DAYLIGHT
TZNAME:CEST
TZOFFSETFROM:+0100
TZOFFSETTO:+0200
DTSTART:19440403T020000
RRULE:FREQ=YEARLY;UNTIL=19450402T010000Z;BYMONTH=4;BYDAY=1MO
END:DAYLIGHT
BEGIN:DAYLIGHT
TZNAME:CEMT
TZOFFSETFROM:+0200
TZOFFSETTO:+0300
DTSTART:19450524T020000
RDATE:19470511T030000
END:DAYLIGHT
BEGIN:DAYLIGHT
TZNAME:CEST
TZOFFSETFROM:+0300
TZOFFSETTO:+0200
DTSTART:19450924T030000
RDATE:19470629T030000
END:DAYLIGHT
BEGIN:STANDARD
TZNAME:CET
TZOFFSETFROM:+0100
TZOFFSETTO:+0100
DTSTART:19460101T000000
RDATE:19800101T000000
END:STANDARD
BEGIN:STANDARD
TZNAME:CET
TZOFFSETFROM:+0200
TZOFFSETTO:+0100
DTSTART:19471005T030000
RRULE:FREQ=YEARLY;UNTIL=19491002T010000Z;BYMONTH=10;BYDAY=1SU
END:STANDARD
BEGIN:STANDARD
TZNAME:CET
TZOFFSETFROM:+0200
TZOFFSETTO:+0100
DTSTART:19800928T030000
RRULE:FREQ=YEARLY;UNTIL=19950924T010000Z;BYMONTH=9;BYDAY=-1SU
END:STANDARD
BEGIN:DAYLIGHT
TZNAME:CEST
TZOFFSETFROM:+0100
TZOFFSETTO:+0200
DTSTART:19810329T020000
RRULE:FREQ=YEARLY;BYMONTH=3;BYDAY=-1SU
END:DAYLIGHT
BEGIN:STANDARD
TZNAME:CET
TZOFFSETFROM:+0200
TZOFFSETTO:+0100
DTSTART:19961027T030000
RRULE:FREQ=YEARLY;BYMONTH=10;BYDAY=-1SU
END:STANDARD
END:VTIMEZONE
BEGIN:VEVENT
DTSTAMP:20260423T104631Z
DTSTART;VALUE=DATE:20260813
DTEND;VALUE=DATE:20260817
SUMMARY:Elvis Weekend 
CREATED:20260421T135137Z
LAST-MODIFIED:20260421T135137Z
DESCRIPTION:FRIEDBERG (HESSEN) – ARMY HOME OF ELVIS PRESLEY\nDonnerstag b
 is Sonntag\, 13. bis 16. August\n\nElvis Weekend auf der Bühne:\nTodesta
 ge feiert man für gewöhnlich nicht. Nicht so bei Elvis-Presley. Seit Jah
 ren gedenkt die Stadt Friedberg gemeinsam mit dem Elvis-Presley-Verein\n
 Bad Nauheim/Friedberg dem King of Rock ’n’ Roll\, indem sie feiert. In F
 riedberg\, dem legendären Army Home von Elvis Presley\, wird wieder gefe
 iert\, getanzt und gerockt. Mitreißende Live-Musik\, beeindruckende Show
 -Darbietungen und eine Tanzfläche sorgen für echtes Rock’n’Roll-Feeling.
  Beim Boogie-Woogie bringen die Boogiewoogie Cubs das Publikum garantier
 t in Bewegung. Natürlich ist auch für das leibliche Wohl gesorgt – mit E
 ssen und Trinken ganz im Stil der 50er- und 60er-Jahre. Darüber hinaus b
 esteht erneut die Möglichkeit\, mit einer Bustour zur ehemaligen Kaserne
  zu fahren und dort das „Army Home of Elvis Presley“ selbst in Augensche
 in zu nehmen.\n\nElvis Weekend im Wetterau-Museum:\nHier lädt eine spann
 ende Elvis-Ausstellung dazu ein\, in die Geschichte des King of Rock’n’R
 oll einzutauchen. In einer Fotobox kann zudem ein Erinnerungsfoto neben 
 Elvis entstehen – fast so\, als stünde man selbst neben der Legende.
LOCATION:Stadtkirchenplatz & Wetteraumuseum
X-LOCATION-NAME:Stadtkirchenplatz & Wetteraumuseum
ORGANIZER;CN=Magistrat der Stadt Friedberg (Hessen):mailto:kulturservice@
 friedberg-hessen.de
X-ORGANIZER-NAME:Magistrat der Stadt Friedberg (Hessen)
X-ORGANIZER-EMAIL:kulturservice@friedberg-hessen.de
X-IONAS-CATEGORY:Fest
CATEGORIES:Fest
ATTACH;FMTTYPE=image/jpeg:https://www.friedberg-hessen.de/de/kalender/gem
 eldete-termine-extern/2026-08-13-elvis-weekend/elvisweekend-kalender.jpg
 ?cid=4lv.1a7g
UID:61e32f98-6cd1-481f-88f3-e79f7f6b3160
X-PRICE:Keine Angabe
END:VEVENT
END:VCALENDAR
