BEGIN:VCALENDAR
PRODID:-//Ben Fortuna//iCal4j 1.0//EN
VERSION:2.0
CALSCALE:GREGORIAN
BEGIN:VTIMEZONE
TZID:Europe/Berlin
LAST-MODIFIED:20201010T011803Z
TZURL:http://tzurl.org/zoneinfo/Europe/Berlin
X-LIC-LOCATION:Europe/Berlin
X-PROLEPTIC-TZNAME:LMT
BEGIN:STANDARD
TZNAME:CET
TZOFFSETFROM:+005328
TZOFFSETTO:+0100
DTSTART:18930401T000000
END:STANDARD
BEGIN:DAYLIGHT
TZNAME:CEST
TZOFFSETFROM:+0100
TZOFFSETTO:+0200
DTSTART:19160430T230000
RDATE:19400401T020000
RDATE:19430329T020000
RDATE:19460414T020000
RDATE:19470406T030000
RDATE:19480418T020000
RDATE:19490410T020000
RDATE:19800406T020000
END:DAYLIGHT
BEGIN:STANDARD
TZNAME:CET
TZOFFSETFROM:+0200
TZOFFSETTO:+0100
DTSTART:19161001T010000
RDATE:19421102T030000
RDATE:19431004T030000
RDATE:19441002T030000
RDATE:19451118T030000
RDATE:19461007T030000
END:STANDARD
BEGIN:DAYLIGHT
TZNAME:CEST
TZOFFSETFROM:+0100
TZOFFSETTO:+0200
DTSTART:19170416T020000
RRULE:FREQ=YEARLY;UNTIL=19180415T010000Z;BYMONTH=4;BYDAY=3MO
END:DAYLIGHT
BEGIN:STANDARD
TZNAME:CET
TZOFFSETFROM:+0200
TZOFFSETTO:+0100
DTSTART:19170917T030000
RRULE:FREQ=YEARLY;UNTIL=19180916T010000Z;BYMONTH=9;BYDAY=3MO
END:STANDARD
BEGIN:DAYLIGHT
TZNAME:CEST
TZOFFSETFROM:+0100
TZOFFSETTO:+0200
DTSTART:19440403T020000
RRULE:FREQ=YEARLY;UNTIL=19450402T010000Z;BYMONTH=4;BYDAY=1MO
END:DAYLIGHT
BEGIN:DAYLIGHT
TZNAME:CEMT
TZOFFSETFROM:+0200
TZOFFSETTO:+0300
DTSTART:19450524T020000
RDATE:19470511T030000
END:DAYLIGHT
BEGIN:DAYLIGHT
TZNAME:CEST
TZOFFSETFROM:+0300
TZOFFSETTO:+0200
DTSTART:19450924T030000
RDATE:19470629T030000
END:DAYLIGHT
BEGIN:STANDARD
TZNAME:CET
TZOFFSETFROM:+0100
TZOFFSETTO:+0100
DTSTART:19460101T000000
RDATE:19800101T000000
END:STANDARD
BEGIN:STANDARD
TZNAME:CET
TZOFFSETFROM:+0200
TZOFFSETTO:+0100
DTSTART:19471005T030000
RRULE:FREQ=YEARLY;UNTIL=19491002T010000Z;BYMONTH=10;BYDAY=1SU
END:STANDARD
BEGIN:STANDARD
TZNAME:CET
TZOFFSETFROM:+0200
TZOFFSETTO:+0100
DTSTART:19800928T030000
RRULE:FREQ=YEARLY;UNTIL=19950924T010000Z;BYMONTH=9;BYDAY=-1SU
END:STANDARD
BEGIN:DAYLIGHT
TZNAME:CEST
TZOFFSETFROM:+0100
TZOFFSETTO:+0200
DTSTART:19810329T020000
RRULE:FREQ=YEARLY;BYMONTH=3;BYDAY=-1SU
END:DAYLIGHT
BEGIN:STANDARD
TZNAME:CET
TZOFFSETFROM:+0200
TZOFFSETTO:+0100
DTSTART:19961027T030000
RRULE:FREQ=YEARLY;BYMONTH=10;BYDAY=-1SU
END:STANDARD
END:VTIMEZONE
BEGIN:VEVENT
DTSTAMP:20260423T105629Z
DTSTART;VALUE=DATE:20260815
DTEND;VALUE=DATE:20260824
SUMMARY:50 Jahre Stadthalle Friedberg
CREATED:20260421T150928Z
LAST-MODIFIED:20260421T150928Z
DESCRIPTION:EIN HAUS. VIELE GESCHICHTEN.\nFestwoche von Samstag 15. bis S
 onntag 23. August\n\nSeit genau 50 Jahren ist die Stadthalle Friedberg O
 rt der Begegnung\, Freude und Festivität für alle Friedberger – wir alle
  haben in der Stadthalle schon getagt\, getanzt\, debattiert und gefeier
 t. Mit einem vielfältigen Programm bringen wir in der Festwoche zum Jubi
 läum unserer Stadthalle Generationen zusammen und schauen gemeinsam auf 
 die Zukunft unserer Gemeinschaft.\n\nWeitere Informationen erhalten Sie 
 unter\nwww.stadthalle-friedberg.de
LOCATION:Stadthalle
X-LOCATION-NAME:Stadthalle
X-STREET-ADDRESS:Am Seebach 2
X-POSTAL-CODE:61169
X-LOCALITY:Friedberg
ORGANIZER;CN=Magistrat der Stadt Friedberg (Hessen):mailto:kulturservice@
 friedberg-hessen.de
X-ORGANIZER-NAME:Magistrat der Stadt Friedberg (Hessen)
X-ORGANIZER-EMAIL:kulturservice@friedberg-hessen.de
X-ORGANIZER-WEBSITE:https://www.stadthalle-friedberg.de/
URL:https://www.stadthalle-friedberg.de/
X-IONAS-CATEGORY:Fest
CATEGORIES:Fest
ATTACH;FMTTYPE=image/jpeg:https://www.friedberg-hessen.de/de/kalender/gem
 eldete-termine-extern/2026-08-15-50-jahre-stadthalle-friedberg/50jahrest
 adthalle-kalender.jpg?cid=4mp.1awd
UID:76f8e2fc-6e3e-406a-8f06-edfc4585d19d
X-PRICE:Keine Angabe
END:VEVENT
END:VCALENDAR
