BEGIN:VCALENDAR
PRODID:-//Ben Fortuna//iCal4j 1.0//EN
VERSION:2.0
CALSCALE:GREGORIAN
BEGIN:VTIMEZONE
TZID:Europe/Berlin
LAST-MODIFIED:20201010T011803Z
TZURL:http://tzurl.org/zoneinfo/Europe/Berlin
X-LIC-LOCATION:Europe/Berlin
X-PROLEPTIC-TZNAME:LMT
BEGIN:STANDARD
TZNAME:CET
TZOFFSETFROM:+005328
TZOFFSETTO:+0100
DTSTART:18930401T000000
END:STANDARD
BEGIN:DAYLIGHT
TZNAME:CEST
TZOFFSETFROM:+0100
TZOFFSETTO:+0200
DTSTART:19160430T230000
RDATE:19400401T020000
RDATE:19430329T020000
RDATE:19460414T020000
RDATE:19470406T030000
RDATE:19480418T020000
RDATE:19490410T020000
RDATE:19800406T020000
END:DAYLIGHT
BEGIN:STANDARD
TZNAME:CET
TZOFFSETFROM:+0200
TZOFFSETTO:+0100
DTSTART:19161001T010000
RDATE:19421102T030000
RDATE:19431004T030000
RDATE:19441002T030000
RDATE:19451118T030000
RDATE:19461007T030000
END:STANDARD
BEGIN:DAYLIGHT
TZNAME:CEST
TZOFFSETFROM:+0100
TZOFFSETTO:+0200
DTSTART:19170416T020000
RRULE:FREQ=YEARLY;UNTIL=19180415T010000Z;BYMONTH=4;BYDAY=3MO
END:DAYLIGHT
BEGIN:STANDARD
TZNAME:CET
TZOFFSETFROM:+0200
TZOFFSETTO:+0100
DTSTART:19170917T030000
RRULE:FREQ=YEARLY;UNTIL=19180916T010000Z;BYMONTH=9;BYDAY=3MO
END:STANDARD
BEGIN:DAYLIGHT
TZNAME:CEST
TZOFFSETFROM:+0100
TZOFFSETTO:+0200
DTSTART:19440403T020000
RRULE:FREQ=YEARLY;UNTIL=19450402T010000Z;BYMONTH=4;BYDAY=1MO
END:DAYLIGHT
BEGIN:DAYLIGHT
TZNAME:CEMT
TZOFFSETFROM:+0200
TZOFFSETTO:+0300
DTSTART:19450524T020000
RDATE:19470511T030000
END:DAYLIGHT
BEGIN:DAYLIGHT
TZNAME:CEST
TZOFFSETFROM:+0300
TZOFFSETTO:+0200
DTSTART:19450924T030000
RDATE:19470629T030000
END:DAYLIGHT
BEGIN:STANDARD
TZNAME:CET
TZOFFSETFROM:+0100
TZOFFSETTO:+0100
DTSTART:19460101T000000
RDATE:19800101T000000
END:STANDARD
BEGIN:STANDARD
TZNAME:CET
TZOFFSETFROM:+0200
TZOFFSETTO:+0100
DTSTART:19471005T030000
RRULE:FREQ=YEARLY;UNTIL=19491002T010000Z;BYMONTH=10;BYDAY=1SU
END:STANDARD
BEGIN:STANDARD
TZNAME:CET
TZOFFSETFROM:+0200
TZOFFSETTO:+0100
DTSTART:19800928T030000
RRULE:FREQ=YEARLY;UNTIL=19950924T010000Z;BYMONTH=9;BYDAY=-1SU
END:STANDARD
BEGIN:DAYLIGHT
TZNAME:CEST
TZOFFSETFROM:+0100
TZOFFSETTO:+0200
DTSTART:19810329T020000
RRULE:FREQ=YEARLY;BYMONTH=3;BYDAY=-1SU
END:DAYLIGHT
BEGIN:STANDARD
TZNAME:CET
TZOFFSETFROM:+0200
TZOFFSETTO:+0100
DTSTART:19961027T030000
RRULE:FREQ=YEARLY;BYMONTH=10;BYDAY=-1SU
END:STANDARD
END:VTIMEZONE
BEGIN:VEVENT
DTSTAMP:20260422T140756Z
DTSTART;TZID=Europe/Berlin:20260807T190000
DTEND;TZID=Europe/Berlin:20260807T210000
SUMMARY:Öffentliche Kostümführung
CREATED:20260419T112744Z
LAST-MODIFIED:20260420T063522Z
DESCRIPTION:Wehe es fehlt der Badehut\n\nBADEKULTUR VERSCHIEDENER EPOCHEN
 \n\nBegleiten Sie die Bademagd auf einem abendlichen Rundgang durch 2000
  Jahre Geschichte der Badekultur in Friedberg. Im Verlauf der Führung wi
 rd von fünf verschiedenen Bädern aus längst vergangenen Epochen berichte
 t. Mit Innenbesichtigung des Jugendstilbades.\n\nKostümführung\nEingang 
 zur Burg (Ende Kaiserstraße)\n2 Stunden\npro Person 9\,- €\, inkl. Eintr
 itt altes Hallenbad/Mikwe\nAnmeldung erforderlich unter 06047-97 70 193\
 noder natur-kulturfuehrer@freenet.de\nGruppenführungen auf Anfrage\nAnne
 tte Miksch
LOCATION:Altes Hallenbad
X-LOCATION-NAME:Altes Hallenbad
X-STREET-ADDRESS:Haagstraße 29
X-POSTAL-CODE:61169
X-LOCALITY:Friedberg
X-REGION:Wetterau
X-COUNTRY:Deutschland
GEO:50.3357847;8.7566583
ORGANIZER;CN=Magistrat der Stadt Friedberg:mailto:entdecke@friedberg-hess
 en.de
X-ORGANIZER-NAME:Magistrat der Stadt Friedberg 
X-ORGANIZER-EMAIL:entdecke@friedberg-hessen.de
X-ORGANIZER-TELEPHONE:+49 6031 88621
X-ORGANIZER-FAXNUMBER:+49 6031 91276
X-ORGANIZER-ADDRESS-POSTALCODE:61169
X-ORGANIZER-ADDRESS-LOCALITY:Friedberg
X-ORGANIZER-ADDRESS-STREET:Schnurgasse 2
X-ORGANIZER-GEO:50.33648\;8.754515
CONTACT:Juliane van Reedt Dortland\,entdecke@friedberg-hessen.de\,+49 603
 1 88621
X-CONTACT-GIVEN-NAME:Juliane
X-CONTACT-FAMILY-NAME:van Reedt Dortland
X-CONTACT-EMAIL:entdecke@friedberg-hessen.de
X-CONTACT-TELEPHONE:+49 6031 88621
X-CONTACT-MOBILE:+49 160 90326177
X-CONTACT-DEPARTMENT:Tourismus & Stadtmarketing\, Stadthalle & Bürgerhäus
 er 
X-IONAS-CATEGORY:Stadtführung
CATEGORIES:Stadtführung
ATTACH;FMTTYPE=image/jpeg:https://www.friedberg-hessen.de/de/kalender/gem
 eldete-termine-extern/2026/august/2026-08-07-oeffentliche-kostuemfuehrun
 g/aha-mm-2.jpg?cid=4g1.17sd
UID:9aab7068-d7e6-4b29-bde4-fb91ba71d5e0
END:VEVENT
END:VCALENDAR
