BEGIN:VCALENDAR
PRODID:-//Ben Fortuna//iCal4j 1.0//EN
VERSION:2.0
CALSCALE:GREGORIAN
BEGIN:VTIMEZONE
TZID:Europe/Berlin
LAST-MODIFIED:20201010T011803Z
TZURL:http://tzurl.org/zoneinfo/Europe/Berlin
X-LIC-LOCATION:Europe/Berlin
X-PROLEPTIC-TZNAME:LMT
BEGIN:STANDARD
TZNAME:CET
TZOFFSETFROM:+005328
TZOFFSETTO:+0100
DTSTART:18930401T000000
END:STANDARD
BEGIN:DAYLIGHT
TZNAME:CEST
TZOFFSETFROM:+0100
TZOFFSETTO:+0200
DTSTART:19160430T230000
RDATE:19400401T020000
RDATE:19430329T020000
RDATE:19460414T020000
RDATE:19470406T030000
RDATE:19480418T020000
RDATE:19490410T020000
RDATE:19800406T020000
END:DAYLIGHT
BEGIN:STANDARD
TZNAME:CET
TZOFFSETFROM:+0200
TZOFFSETTO:+0100
DTSTART:19161001T010000
RDATE:19421102T030000
RDATE:19431004T030000
RDATE:19441002T030000
RDATE:19451118T030000
RDATE:19461007T030000
END:STANDARD
BEGIN:DAYLIGHT
TZNAME:CEST
TZOFFSETFROM:+0100
TZOFFSETTO:+0200
DTSTART:19170416T020000
RRULE:FREQ=YEARLY;UNTIL=19180415T010000Z;BYMONTH=4;BYDAY=3MO
END:DAYLIGHT
BEGIN:STANDARD
TZNAME:CET
TZOFFSETFROM:+0200
TZOFFSETTO:+0100
DTSTART:19170917T030000
RRULE:FREQ=YEARLY;UNTIL=19180916T010000Z;BYMONTH=9;BYDAY=3MO
END:STANDARD
BEGIN:DAYLIGHT
TZNAME:CEST
TZOFFSETFROM:+0100
TZOFFSETTO:+0200
DTSTART:19440403T020000
RRULE:FREQ=YEARLY;UNTIL=19450402T010000Z;BYMONTH=4;BYDAY=1MO
END:DAYLIGHT
BEGIN:DAYLIGHT
TZNAME:CEMT
TZOFFSETFROM:+0200
TZOFFSETTO:+0300
DTSTART:19450524T020000
RDATE:19470511T030000
END:DAYLIGHT
BEGIN:DAYLIGHT
TZNAME:CEST
TZOFFSETFROM:+0300
TZOFFSETTO:+0200
DTSTART:19450924T030000
RDATE:19470629T030000
END:DAYLIGHT
BEGIN:STANDARD
TZNAME:CET
TZOFFSETFROM:+0100
TZOFFSETTO:+0100
DTSTART:19460101T000000
RDATE:19800101T000000
END:STANDARD
BEGIN:STANDARD
TZNAME:CET
TZOFFSETFROM:+0200
TZOFFSETTO:+0100
DTSTART:19471005T030000
RRULE:FREQ=YEARLY;UNTIL=19491002T010000Z;BYMONTH=10;BYDAY=1SU
END:STANDARD
BEGIN:STANDARD
TZNAME:CET
TZOFFSETFROM:+0200
TZOFFSETTO:+0100
DTSTART:19800928T030000
RRULE:FREQ=YEARLY;UNTIL=19950924T010000Z;BYMONTH=9;BYDAY=-1SU
END:STANDARD
BEGIN:DAYLIGHT
TZNAME:CEST
TZOFFSETFROM:+0100
TZOFFSETTO:+0200
DTSTART:19810329T020000
RRULE:FREQ=YEARLY;BYMONTH=3;BYDAY=-1SU
END:DAYLIGHT
BEGIN:STANDARD
TZNAME:CET
TZOFFSETFROM:+0200
TZOFFSETTO:+0100
DTSTART:19961027T030000
RRULE:FREQ=YEARLY;BYMONTH=10;BYDAY=-1SU
END:STANDARD
END:VTIMEZONE
BEGIN:VEVENT
DTSTAMP:20260422T135722Z
DTSTART;TZID=Europe/Berlin:20260814T170000
DTEND;TZID=Europe/Berlin:20260814T220000
SUMMARY:Friedberger Feierabendtreff
CREATED:20260417T082724Z
LAST-MODIFIED:20260420T082846Z
DESCRIPTION:GEMEINSAM DEN FEIERABEND GENIESSEN\n\nFreitag 14. August\nSil
 verballs\nRock’n’Roll!\n\nAuf gleich drei Termine des populären Friedber
 ger Feierabendtreffs können sich die Besucher\ndieses Jahr freuen. Freun
 de gepflegten Essens\, guter Stimmung und tanzbarer Musik kommen wieder 
 voll auf ihre Kosten. Der Feierabendtreff hat sich dabei längst zu einem
  beliebten Treffpunkt mitten in Friedberg entwickelt. In sommerlicher At
 mosphäre kommen hier nach der Arbeit Kolleginnen\nund Kollegen\, Freunde
  und Familien zusammen\, um bei kühlen Getränken und leckerem\nEssen den
  Tag entspannt ausklingen zu lassen. Musik\, gute Gespräche und die fröh
 liche Stimmung mitten in der Stadt machen den Feierabend zu einem besond
 eren Sommererlebnis.\n\njeweils von 17:00 Uhr bis 22:00 Uhr\nLive Musik 
 ab 19:00 Uhr
LOCATION:Stadtkirchenplatz
X-LOCATION-NAME:Stadtkirchenplatz
X-STREET-ADDRESS:Schnurgasse
X-POSTAL-CODE:61169
X-LOCALITY:Friedberg
ORGANIZER;CN=Magistrat der Kreisstadt Friedberg (Hessen):mailto:kulturser
 vice@friedberg-hessen.de
X-ORGANIZER-NAME:Magistrat der Kreisstadt Friedberg (Hessen)
X-ORGANIZER-EMAIL:kulturservice@friedberg-hessen.de
X-ORGANIZER-ADDRESS-POSTALCODE:61169
X-ORGANIZER-ADDRESS-LOCALITY:Friedberg
X-ORGANIZER-ADDRESS-STREET:Mainzer-Tor-Anlage 6
X-ORGANIZER-GEO:50.332706\;8.755839
X-IONAS-CATEGORY:Fest
CATEGORIES:Fest
ATTACH;FMTTYPE=image/jpeg:https://www.friedberg-hessen.de/de/kalender/gem
 eldete-termine-extern/2026/august/2026-08-14-friedberger-feierabendtreff
 /feierabendtreff-kalender.jpg?cid=4ea.17fj
UID:fa01b428-8c19-476d-aa97-b3a4677dac69
END:VEVENT
END:VCALENDAR
