BEGIN:VCALENDAR
PRODID:-//Ben Fortuna//iCal4j 1.0//EN
VERSION:2.0
CALSCALE:GREGORIAN
BEGIN:VTIMEZONE
TZID:Europe/Berlin
LAST-MODIFIED:20201010T011803Z
TZURL:http://tzurl.org/zoneinfo/Europe/Berlin
X-LIC-LOCATION:Europe/Berlin
X-PROLEPTIC-TZNAME:LMT
BEGIN:STANDARD
TZNAME:CET
TZOFFSETFROM:+005328
TZOFFSETTO:+0100
DTSTART:18930401T000000
END:STANDARD
BEGIN:DAYLIGHT
TZNAME:CEST
TZOFFSETFROM:+0100
TZOFFSETTO:+0200
DTSTART:19160430T230000
RDATE:19400401T020000
RDATE:19430329T020000
RDATE:19460414T020000
RDATE:19470406T030000
RDATE:19480418T020000
RDATE:19490410T020000
RDATE:19800406T020000
END:DAYLIGHT
BEGIN:STANDARD
TZNAME:CET
TZOFFSETFROM:+0200
TZOFFSETTO:+0100
DTSTART:19161001T010000
RDATE:19421102T030000
RDATE:19431004T030000
RDATE:19441002T030000
RDATE:19451118T030000
RDATE:19461007T030000
END:STANDARD
BEGIN:DAYLIGHT
TZNAME:CEST
TZOFFSETFROM:+0100
TZOFFSETTO:+0200
DTSTART:19170416T020000
RRULE:FREQ=YEARLY;UNTIL=19180415T010000Z;BYMONTH=4;BYDAY=3MO
END:DAYLIGHT
BEGIN:STANDARD
TZNAME:CET
TZOFFSETFROM:+0200
TZOFFSETTO:+0100
DTSTART:19170917T030000
RRULE:FREQ=YEARLY;UNTIL=19180916T010000Z;BYMONTH=9;BYDAY=3MO
END:STANDARD
BEGIN:DAYLIGHT
TZNAME:CEST
TZOFFSETFROM:+0100
TZOFFSETTO:+0200
DTSTART:19440403T020000
RRULE:FREQ=YEARLY;UNTIL=19450402T010000Z;BYMONTH=4;BYDAY=1MO
END:DAYLIGHT
BEGIN:DAYLIGHT
TZNAME:CEMT
TZOFFSETFROM:+0200
TZOFFSETTO:+0300
DTSTART:19450524T020000
RDATE:19470511T030000
END:DAYLIGHT
BEGIN:DAYLIGHT
TZNAME:CEST
TZOFFSETFROM:+0300
TZOFFSETTO:+0200
DTSTART:19450924T030000
RDATE:19470629T030000
END:DAYLIGHT
BEGIN:STANDARD
TZNAME:CET
TZOFFSETFROM:+0100
TZOFFSETTO:+0100
DTSTART:19460101T000000
RDATE:19800101T000000
END:STANDARD
BEGIN:STANDARD
TZNAME:CET
TZOFFSETFROM:+0200
TZOFFSETTO:+0100
DTSTART:19471005T030000
RRULE:FREQ=YEARLY;UNTIL=19491002T010000Z;BYMONTH=10;BYDAY=1SU
END:STANDARD
BEGIN:STANDARD
TZNAME:CET
TZOFFSETFROM:+0200
TZOFFSETTO:+0100
DTSTART:19800928T030000
RRULE:FREQ=YEARLY;UNTIL=19950924T010000Z;BYMONTH=9;BYDAY=-1SU
END:STANDARD
BEGIN:DAYLIGHT
TZNAME:CEST
TZOFFSETFROM:+0100
TZOFFSETTO:+0200
DTSTART:19810329T020000
RRULE:FREQ=YEARLY;BYMONTH=3;BYDAY=-1SU
END:DAYLIGHT
BEGIN:STANDARD
TZNAME:CET
TZOFFSETFROM:+0200
TZOFFSETTO:+0100
DTSTART:19961027T030000
RRULE:FREQ=YEARLY;BYMONTH=10;BYDAY=-1SU
END:STANDARD
END:VTIMEZONE
BEGIN:VEVENT
DTSTAMP:20260423T110843Z
DTSTART;TZID=Europe/Berlin:20260830T160000
DTEND;TZID=Europe/Berlin:20260830T173000
SUMMARY:Öffentliche Kostümführung
CREATED:20260420T105012Z
LAST-MODIFIED:20260420T105012Z
DESCRIPTION:Die Zarin\n\nDIE ZARIN ZU BESUCH IN FRIEDBERG\n\nDer fast zwe
 imonatige Aufenthalt des letzten Zaren Nikolaus II\, seiner Frau Alexand
 ra und ihrer fünf Kinder mit zahlreichem Gefolge auf der Friedberger Bur
 g im Sommer 1910 war ein bedeutendes Ereignis in der Geschichte Friedber
 gs und Bad Nauheims. Die Gästeführerin wird\, zeitgenössisch gewandet\,\
 nim Burggarten von den zahlreichen Aktivitäten der letzten Romanows beri
 chten – von Ausflügen im Automobil\, Tennisspielen in Bad Nauheim\, Fahr
 radtouren des kleinen Zarewitsch Alexej mit seinem Leibmatrosen und viel
 em anderen. So entsteht ein lebendiges Bild dieser unbeschwerten\nWochen
  – vier Jahre vor Beginn des ersten Weltkriegs und acht Jahre vor der Er
 mordung der gesamten Familie durch die russischen Revolutionäre im Somme
 r 1918.\n\nKostümführung\nAdolfsturm\n1\,5 Stunden\npro Person 5 €\nAnme
 ldung nicht erforderlich\nGruppenführungen auf Anfrage\nMonica Keichel
LOCATION:Adolfsturm 
X-LOCATION-NAME:Adolfsturm 
X-STREET-ADDRESS:In der Burg 39/41
X-POSTAL-CODE:61169
X-LOCALITY:Friedberg
ORGANIZER;CN=Magistrat der Stadt Friedberg:mailto:entdecke@friedberg-hess
 en.de
X-ORGANIZER-NAME:Magistrat der Stadt Friedberg
X-ORGANIZER-EMAIL:entdecke@friedberg-hessen.de
X-ORGANIZER-TELEPHONE:+49 6031 88621
X-ORGANIZER-ADDRESS-POSTALCODE:61169
X-ORGANIZER-ADDRESS-LOCALITY:Friedberg
X-ORGANIZER-ADDRESS-STREET:Schnurgasse 2
CONTACT:entdecke@friedberg-hessen.de
X-CONTACT-EMAIL:entdecke@friedberg-hessen.de
X-IONAS-CATEGORY:Stadtführung
CATEGORIES:Stadtführung
UID:5feee909-5697-4a3a-a412-f6a54f824c03
X-PRICE:Keine Angabe
END:VEVENT
END:VCALENDAR
