BEGIN:VCALENDAR
PRODID:-//Ben Fortuna//iCal4j 1.0//EN
VERSION:2.0
CALSCALE:GREGORIAN
BEGIN:VTIMEZONE
TZID:Europe/Berlin
LAST-MODIFIED:20201010T011803Z
TZURL:http://tzurl.org/zoneinfo/Europe/Berlin
X-LIC-LOCATION:Europe/Berlin
X-PROLEPTIC-TZNAME:LMT
BEGIN:STANDARD
TZNAME:CET
TZOFFSETFROM:+005328
TZOFFSETTO:+0100
DTSTART:18930401T000000
END:STANDARD
BEGIN:DAYLIGHT
TZNAME:CEST
TZOFFSETFROM:+0100
TZOFFSETTO:+0200
DTSTART:19160430T230000
RDATE:19400401T020000
RDATE:19430329T020000
RDATE:19460414T020000
RDATE:19470406T030000
RDATE:19480418T020000
RDATE:19490410T020000
RDATE:19800406T020000
END:DAYLIGHT
BEGIN:STANDARD
TZNAME:CET
TZOFFSETFROM:+0200
TZOFFSETTO:+0100
DTSTART:19161001T010000
RDATE:19421102T030000
RDATE:19431004T030000
RDATE:19441002T030000
RDATE:19451118T030000
RDATE:19461007T030000
END:STANDARD
BEGIN:DAYLIGHT
TZNAME:CEST
TZOFFSETFROM:+0100
TZOFFSETTO:+0200
DTSTART:19170416T020000
RRULE:FREQ=YEARLY;UNTIL=19180415T010000Z;BYMONTH=4;BYDAY=3MO
END:DAYLIGHT
BEGIN:STANDARD
TZNAME:CET
TZOFFSETFROM:+0200
TZOFFSETTO:+0100
DTSTART:19170917T030000
RRULE:FREQ=YEARLY;UNTIL=19180916T010000Z;BYMONTH=9;BYDAY=3MO
END:STANDARD
BEGIN:DAYLIGHT
TZNAME:CEST
TZOFFSETFROM:+0100
TZOFFSETTO:+0200
DTSTART:19440403T020000
RRULE:FREQ=YEARLY;UNTIL=19450402T010000Z;BYMONTH=4;BYDAY=1MO
END:DAYLIGHT
BEGIN:DAYLIGHT
TZNAME:CEMT
TZOFFSETFROM:+0200
TZOFFSETTO:+0300
DTSTART:19450524T020000
RDATE:19470511T030000
END:DAYLIGHT
BEGIN:DAYLIGHT
TZNAME:CEST
TZOFFSETFROM:+0300
TZOFFSETTO:+0200
DTSTART:19450924T030000
RDATE:19470629T030000
END:DAYLIGHT
BEGIN:STANDARD
TZNAME:CET
TZOFFSETFROM:+0100
TZOFFSETTO:+0100
DTSTART:19460101T000000
RDATE:19800101T000000
END:STANDARD
BEGIN:STANDARD
TZNAME:CET
TZOFFSETFROM:+0200
TZOFFSETTO:+0100
DTSTART:19471005T030000
RRULE:FREQ=YEARLY;UNTIL=19491002T010000Z;BYMONTH=10;BYDAY=1SU
END:STANDARD
BEGIN:STANDARD
TZNAME:CET
TZOFFSETFROM:+0200
TZOFFSETTO:+0100
DTSTART:19800928T030000
RRULE:FREQ=YEARLY;UNTIL=19950924T010000Z;BYMONTH=9;BYDAY=-1SU
END:STANDARD
BEGIN:DAYLIGHT
TZNAME:CEST
TZOFFSETFROM:+0100
TZOFFSETTO:+0200
DTSTART:19810329T020000
RRULE:FREQ=YEARLY;BYMONTH=3;BYDAY=-1SU
END:DAYLIGHT
BEGIN:STANDARD
TZNAME:CET
TZOFFSETFROM:+0200
TZOFFSETTO:+0100
DTSTART:19961027T030000
RRULE:FREQ=YEARLY;BYMONTH=10;BYDAY=-1SU
END:STANDARD
END:VTIMEZONE
BEGIN:VEVENT
DTSTAMP:20260422T140757Z
DTSTART;TZID=Europe/Berlin:20261206T110000
DTEND;TZID=Europe/Berlin:20261206T200000
SUMMARY:Friedberger Weihnachtsmarkt
CREATED:20260421T080720Z
LAST-MODIFIED:20260421T080720Z
DESCRIPTION:Der Zauber unseres Weihnachtsmarkts – an einem ganz besondere
 n Ort! Der Weihnachtsmarkt in der historischen Friedberger Burganlage öf
 fnet zum 3. Mal seine Tore und lädt Sie ein\, in eine winterliche Märche
 nwelt einzutauchen. Genießen Sie die Vielfalt von Kunsthandwerk und loka
 len Köstlichkeiten\,\nstöbern Sie an den liebevoll dekorierten Ständen o
 der wärmen Sie sich bei einem Becher Glühwein auf. Für das leibliche Woh
 l ist ebenso gesorgt wie für ein unvergessliches Erlebnis für die ganze 
 Familie.\nEin abwechslungsreiches Rahmenprogramm sorgt sowohl auf der Bü
 hne als auch auf dem gesamten Gelände für festliche Stimmung und Unterha
 ltung. Und natürlich darf der Nikolaus am 6. Dezember nicht fehlen – las
 sen Sie sich von ihm überraschen und erfreuen!
LOCATION:Burggarten
X-LOCATION-NAME:Burggarten
X-STREET-ADDRESS:In der Burg 40
X-POSTAL-CODE:61169
X-LOCALITY:Friedberg
X-REGION:Wetterau
X-COUNTRY:Deutschland
GEO:50.341396;8.753519
ORGANIZER;CN=Magistrat der Kreisstadt Friedberg (Hessen):mailto:kulturser
 vice@friedberg-hessen.de
X-ORGANIZER-NAME:Magistrat der Kreisstadt Friedberg (Hessen)
X-ORGANIZER-EMAIL:kulturservice@friedberg-hessen.de
X-ORGANIZER-ADDRESS-POSTALCODE:61169
X-ORGANIZER-ADDRESS-LOCALITY:Friedberg
X-ORGANIZER-ADDRESS-STREET:Mainzer-Tor-Anlage 6
CONTACT:Magistrat der Kreisstadt Friedberg (Hessen) Kulturservice\,kultur
 service@friedberg-hessen.de
X-CONTACT-GIVEN-NAME:Magistrat der Kreisstadt Friedberg (Hessen)
X-CONTACT-FAMILY-NAME:Kulturservice
X-CONTACT-EMAIL:kulturservice@friedberg-hessen.de
X-CONTACT-DEPARTMENT:Kulturservice
X-IONAS-CATEGORY:Markt
CATEGORIES:Markt
ATTACH;FMTTYPE=image/jpeg:https://www.friedberg-hessen.de/de/kalender/gem
 eldete-termine-extern/2026/dezember/2026-12-06-friedberger-weihnachtsmar
 kt/friedbergerweihnachtsmarkt-kalender.jpg?cid=4hv.19as
UID:b5eb672b-ba80-4db0-ab00-815582a02b27
X-PRICE:Keine Angabe
END:VEVENT
END:VCALENDAR
