BEGIN:VCALENDAR
PRODID:-//Ben Fortuna//iCal4j 1.0//EN
VERSION:2.0
CALSCALE:GREGORIAN
BEGIN:VTIMEZONE
TZID:Europe/Berlin
LAST-MODIFIED:20201010T011803Z
TZURL:http://tzurl.org/zoneinfo/Europe/Berlin
X-LIC-LOCATION:Europe/Berlin
X-PROLEPTIC-TZNAME:LMT
BEGIN:STANDARD
TZNAME:CET
TZOFFSETFROM:+005328
TZOFFSETTO:+0100
DTSTART:18930401T000000
END:STANDARD
BEGIN:DAYLIGHT
TZNAME:CEST
TZOFFSETFROM:+0100
TZOFFSETTO:+0200
DTSTART:19160430T230000
RDATE:19400401T020000
RDATE:19430329T020000
RDATE:19460414T020000
RDATE:19470406T030000
RDATE:19480418T020000
RDATE:19490410T020000
RDATE:19800406T020000
END:DAYLIGHT
BEGIN:STANDARD
TZNAME:CET
TZOFFSETFROM:+0200
TZOFFSETTO:+0100
DTSTART:19161001T010000
RDATE:19421102T030000
RDATE:19431004T030000
RDATE:19441002T030000
RDATE:19451118T030000
RDATE:19461007T030000
END:STANDARD
BEGIN:DAYLIGHT
TZNAME:CEST
TZOFFSETFROM:+0100
TZOFFSETTO:+0200
DTSTART:19170416T020000
RRULE:FREQ=YEARLY;UNTIL=19180415T010000Z;BYMONTH=4;BYDAY=3MO
END:DAYLIGHT
BEGIN:STANDARD
TZNAME:CET
TZOFFSETFROM:+0200
TZOFFSETTO:+0100
DTSTART:19170917T030000
RRULE:FREQ=YEARLY;UNTIL=19180916T010000Z;BYMONTH=9;BYDAY=3MO
END:STANDARD
BEGIN:DAYLIGHT
TZNAME:CEST
TZOFFSETFROM:+0100
TZOFFSETTO:+0200
DTSTART:19440403T020000
RRULE:FREQ=YEARLY;UNTIL=19450402T010000Z;BYMONTH=4;BYDAY=1MO
END:DAYLIGHT
BEGIN:DAYLIGHT
TZNAME:CEMT
TZOFFSETFROM:+0200
TZOFFSETTO:+0300
DTSTART:19450524T020000
RDATE:19470511T030000
END:DAYLIGHT
BEGIN:DAYLIGHT
TZNAME:CEST
TZOFFSETFROM:+0300
TZOFFSETTO:+0200
DTSTART:19450924T030000
RDATE:19470629T030000
END:DAYLIGHT
BEGIN:STANDARD
TZNAME:CET
TZOFFSETFROM:+0100
TZOFFSETTO:+0100
DTSTART:19460101T000000
RDATE:19800101T000000
END:STANDARD
BEGIN:STANDARD
TZNAME:CET
TZOFFSETFROM:+0200
TZOFFSETTO:+0100
DTSTART:19471005T030000
RRULE:FREQ=YEARLY;UNTIL=19491002T010000Z;BYMONTH=10;BYDAY=1SU
END:STANDARD
BEGIN:STANDARD
TZNAME:CET
TZOFFSETFROM:+0200
TZOFFSETTO:+0100
DTSTART:19800928T030000
RRULE:FREQ=YEARLY;UNTIL=19950924T010000Z;BYMONTH=9;BYDAY=-1SU
END:STANDARD
BEGIN:DAYLIGHT
TZNAME:CEST
TZOFFSETFROM:+0100
TZOFFSETTO:+0200
DTSTART:19810329T020000
RRULE:FREQ=YEARLY;BYMONTH=3;BYDAY=-1SU
END:DAYLIGHT
BEGIN:STANDARD
TZNAME:CET
TZOFFSETFROM:+0200
TZOFFSETTO:+0100
DTSTART:19961027T030000
RRULE:FREQ=YEARLY;BYMONTH=10;BYDAY=-1SU
END:STANDARD
END:VTIMEZONE
BEGIN:VEVENT
DTSTAMP:20260422T140811Z
DTSTART;TZID=Europe/Berlin:20260612T180000
DTEND;TZID=Europe/Berlin:20260613T220000
SUMMARY:Mensch Mach Mit Festival
CREATED:20260417T085011Z
LAST-MODIFIED:20260420T082620Z
DESCRIPTION:HESSENS GRÖSSTES INKLUSIVES MUSIK- UND TANZFESTIVAL\n\nFreita
 g und Samstag\n12. und 13. Juni\nDas Mensch Mach Mit Festival\, Hessens 
 größtes inklusives Festival geht in die nächste\nRunde – und das erstmal
 s an zwei Tagen. Auf zwei Bühnen sorgen 15 Bands und Acts für\nVielfalt.
  Musikalisch bietet das Festival wieder eine breite Palette von Hip-Hop 
 und Rock\nüber Schlager und Pop bis hin zu Punkrock.\n\n12. Juni ab 18:0
 0 Uhr\nFestival Warm-up unter dem Motto „Kunst\, Poesie und Musik“ – mit
  Bands\, Poetry-Slam und einem kreativen Kunstworkshop.\n\n13. Juni 12:0
 0 bis 22:00 Uhr\nDie Seewiese verwandelt sich in ein buntes Festivalgelä
 nde mit dem traditionellen Familiennachmittag für alle Generationen\, Wa
 lking Acts\, Mitmachaktionen\, Airbrush-Tattoos\, der „Jeder-gewinnt“-To
 mbola und dem Markt der Vielfalt. Und natürlich mit großartigen Bands un
 d Acts\nab 18:00 Uhr:\nMonotoni und Lumbematz.\n\nVERANSTALTER\nMensch m
 ach mit! e.V.
LOCATION:Seewiese
X-LOCATION-NAME:Seewiese
X-POSTAL-CODE:61169
X-LOCALITY:Friedberg
ORGANIZER;CN=Mensch mach mit! e.V.:mailto:info@mensch-mach-mit.de
X-ORGANIZER-NAME:Mensch mach mit! e.V.
X-ORGANIZER-EMAIL:info@mensch-mach-mit.de
URL:https://menschmachmit.de/aktivitaeten/festival/
X-IONAS-CATEGORY:Veranstaltung
CATEGORIES:Veranstaltung
ATTACH;FMTTYPE=image/jpeg:https://www.friedberg-hessen.de/de/kalender/gem
 eldete-termine-extern/2026/juni/2026-06-12-mensch-mach-mit-festival/mmm-
 festival-titel.jpg?cid=4es.17gs
UID:f54b822a-071b-49d6-90e8-d568ed94c1dd
END:VEVENT
END:VCALENDAR
