BEGIN:VCALENDAR
PRODID:-//IONAS//TVM//DE
VERSION:2.0
CALSCALE:GREGORIAN
BEGIN:VTIMEZONE
TZID:Europe/Berlin
LAST-MODIFIED:20201010T011803Z
TZURL:http://tzurl.org/zoneinfo/Europe/Berlin
X-LIC-LOCATION:Europe/Berlin
X-PROLEPTIC-TZNAME:LMT
BEGIN:STANDARD
TZNAME:CET
TZOFFSETFROM:+005328
TZOFFSETTO:+0100
DTSTART:18930401T000000
END:STANDARD
BEGIN:DAYLIGHT
TZNAME:CEST
TZOFFSETFROM:+0100
TZOFFSETTO:+0200
DTSTART:19160430T230000
RDATE:19400401T020000
RDATE:19430329T020000
RDATE:19460414T020000
RDATE:19470406T030000
RDATE:19480418T020000
RDATE:19490410T020000
RDATE:19800406T020000
END:DAYLIGHT
BEGIN:STANDARD
TZNAME:CET
TZOFFSETFROM:+0200
TZOFFSETTO:+0100
DTSTART:19161001T010000
RDATE:19421102T030000
RDATE:19431004T030000
RDATE:19441002T030000
RDATE:19451118T030000
RDATE:19461007T030000
END:STANDARD
BEGIN:DAYLIGHT
TZNAME:CEST
TZOFFSETFROM:+0100
TZOFFSETTO:+0200
DTSTART:19170416T020000
RRULE:FREQ=YEARLY;UNTIL=19180415T010000Z;BYMONTH=4;BYDAY=3MO
END:DAYLIGHT
BEGIN:STANDARD
TZNAME:CET
TZOFFSETFROM:+0200
TZOFFSETTO:+0100
DTSTART:19170917T030000
RRULE:FREQ=YEARLY;UNTIL=19180916T010000Z;BYMONTH=9;BYDAY=3MO
END:STANDARD
BEGIN:DAYLIGHT
TZNAME:CEST
TZOFFSETFROM:+0100
TZOFFSETTO:+0200
DTSTART:19440403T020000
RRULE:FREQ=YEARLY;UNTIL=19450402T010000Z;BYMONTH=4;BYDAY=1MO
END:DAYLIGHT
BEGIN:DAYLIGHT
TZNAME:CEMT
TZOFFSETFROM:+0200
TZOFFSETTO:+0300
DTSTART:19450524T020000
RDATE:19470511T030000
END:DAYLIGHT
BEGIN:DAYLIGHT
TZNAME:CEST
TZOFFSETFROM:+0300
TZOFFSETTO:+0200
DTSTART:19450924T030000
RDATE:19470629T030000
END:DAYLIGHT
BEGIN:STANDARD
TZNAME:CET
TZOFFSETFROM:+0100
TZOFFSETTO:+0100
DTSTART:19460101T000000
RDATE:19800101T000000
END:STANDARD
BEGIN:STANDARD
TZNAME:CET
TZOFFSETFROM:+0200
TZOFFSETTO:+0100
DTSTART:19471005T030000
RRULE:FREQ=YEARLY;UNTIL=19491002T010000Z;BYMONTH=10;BYDAY=1SU
END:STANDARD
BEGIN:STANDARD
TZNAME:CET
TZOFFSETFROM:+0200
TZOFFSETTO:+0100
DTSTART:19800928T030000
RRULE:FREQ=YEARLY;UNTIL=19950924T010000Z;BYMONTH=9;BYDAY=-1SU
END:STANDARD
BEGIN:DAYLIGHT
TZNAME:CEST
TZOFFSETFROM:+0100
TZOFFSETTO:+0200
DTSTART:19810329T020000
RRULE:FREQ=YEARLY;BYMONTH=3;BYDAY=-1SU
END:DAYLIGHT
BEGIN:STANDARD
TZNAME:CET
TZOFFSETFROM:+0200
TZOFFSETTO:+0100
DTSTART:19961027T030000
RRULE:FREQ=YEARLY;BYMONTH=10;BYDAY=-1SU
END:STANDARD
END:VTIMEZONE
BEGIN:VEVENT
DTSTAMP:20260422T135634Z
DTSTART;TZID=Europe/Berlin:20260628T100000
DTEND;TZID=Europe/Berlin:20260628T180000
SUMMARY:Friedberg spielt
CREATED:20260421T093344Z
LAST-MODIFIED:20260421T093344Z
DESCRIPTION:HESSENS LÄNGSTE SPIELSTRASSE\n\nSonntag 28. Juni\n10:00 bis 1
 8:00 Uhr\n\nAuch im Jahr 2026 findet „Friedberg spielt“ auf der für den 
 Verkehr gesperrten Kaiserstraße statt. Von 10:00 bis 18:00 Uhr bekommen\
 ndie Besucher die Möglichkeit\, sich sowohl an kleinen Geschicklichkeits
 spielen auszuprobieren\, als auch an großen Spielgeräten ihr Können zu b
 eweisen.\nVerschiedene Vereine und Unternehmen aber auch öffentliche Ein
 richtungen und Ämter präsentieren sich an diesem Sonntag und bieten den 
 Besuchern ein buntes Spieleangebot. Auch in den Geschäften kann während 
 des verkaufsoffenen Sonntags geshoppt\, gespielt\, geknobelt und gewonne
 n werden.
LOCATION:Kaiserstraße
X-LOCATION-NAME:Kaiserstraße
ORGANIZER;CN="Stadt Friedberg I Pegasus Spiele I Friedberg hat´s":mailto:
 kulturservice@friedberg-hessen.de
X-ORGANIZER-NAME:Stadt Friedberg I Pegasus Spiele I Friedberg hat´s
X-ORGANIZER-EMAIL:kulturservice@friedberg-hessen.de
URL:https://pegasus.de/Events/Friedberg-spielt/
X-IONAS-CATEGORY:Fest
CATEGORIES:Fest
ATTACH;FMTTYPE=image/jpeg:https://www.friedberg-hessen.de/de/kalender/gem
 eldete-termine-extern/2026/juni/2026-06-28-friedberg-spielt/friedbergspi
 elt-kalender.jpg?cid=4km.19fs
UID:9f2a9259-8465-462f-8d12-d233e36ecd37:2026-06-28
X-PRICE:Keine Angabe
END:VEVENT
END:VCALENDAR
