BEGIN:VCALENDAR
PRODID:-//Ben Fortuna//iCal4j 1.0//EN
VERSION:2.0
CALSCALE:GREGORIAN
BEGIN:VTIMEZONE
TZID:Europe/Berlin
LAST-MODIFIED:20201010T011803Z
TZURL:http://tzurl.org/zoneinfo/Europe/Berlin
X-LIC-LOCATION:Europe/Berlin
X-PROLEPTIC-TZNAME:LMT
BEGIN:STANDARD
TZNAME:CET
TZOFFSETFROM:+005328
TZOFFSETTO:+0100
DTSTART:18930401T000000
END:STANDARD
BEGIN:DAYLIGHT
TZNAME:CEST
TZOFFSETFROM:+0100
TZOFFSETTO:+0200
DTSTART:19160430T230000
RDATE:19400401T020000
RDATE:19430329T020000
RDATE:19460414T020000
RDATE:19470406T030000
RDATE:19480418T020000
RDATE:19490410T020000
RDATE:19800406T020000
END:DAYLIGHT
BEGIN:STANDARD
TZNAME:CET
TZOFFSETFROM:+0200
TZOFFSETTO:+0100
DTSTART:19161001T010000
RDATE:19421102T030000
RDATE:19431004T030000
RDATE:19441002T030000
RDATE:19451118T030000
RDATE:19461007T030000
END:STANDARD
BEGIN:DAYLIGHT
TZNAME:CEST
TZOFFSETFROM:+0100
TZOFFSETTO:+0200
DTSTART:19170416T020000
RRULE:FREQ=YEARLY;UNTIL=19180415T010000Z;BYMONTH=4;BYDAY=3MO
END:DAYLIGHT
BEGIN:STANDARD
TZNAME:CET
TZOFFSETFROM:+0200
TZOFFSETTO:+0100
DTSTART:19170917T030000
RRULE:FREQ=YEARLY;UNTIL=19180916T010000Z;BYMONTH=9;BYDAY=3MO
END:STANDARD
BEGIN:DAYLIGHT
TZNAME:CEST
TZOFFSETFROM:+0100
TZOFFSETTO:+0200
DTSTART:19440403T020000
RRULE:FREQ=YEARLY;UNTIL=19450402T010000Z;BYMONTH=4;BYDAY=1MO
END:DAYLIGHT
BEGIN:DAYLIGHT
TZNAME:CEMT
TZOFFSETFROM:+0200
TZOFFSETTO:+0300
DTSTART:19450524T020000
RDATE:19470511T030000
END:DAYLIGHT
BEGIN:DAYLIGHT
TZNAME:CEST
TZOFFSETFROM:+0300
TZOFFSETTO:+0200
DTSTART:19450924T030000
RDATE:19470629T030000
END:DAYLIGHT
BEGIN:STANDARD
TZNAME:CET
TZOFFSETFROM:+0100
TZOFFSETTO:+0100
DTSTART:19460101T000000
RDATE:19800101T000000
END:STANDARD
BEGIN:STANDARD
TZNAME:CET
TZOFFSETFROM:+0200
TZOFFSETTO:+0100
DTSTART:19471005T030000
RRULE:FREQ=YEARLY;UNTIL=19491002T010000Z;BYMONTH=10;BYDAY=1SU
END:STANDARD
BEGIN:STANDARD
TZNAME:CET
TZOFFSETFROM:+0200
TZOFFSETTO:+0100
DTSTART:19800928T030000
RRULE:FREQ=YEARLY;UNTIL=19950924T010000Z;BYMONTH=9;BYDAY=-1SU
END:STANDARD
BEGIN:DAYLIGHT
TZNAME:CEST
TZOFFSETFROM:+0100
TZOFFSETTO:+0200
DTSTART:19810329T020000
RRULE:FREQ=YEARLY;BYMONTH=3;BYDAY=-1SU
END:DAYLIGHT
BEGIN:STANDARD
TZNAME:CET
TZOFFSETFROM:+0200
TZOFFSETTO:+0100
DTSTART:19961027T030000
RRULE:FREQ=YEARLY;BYMONTH=10;BYDAY=-1SU
END:STANDARD
END:VTIMEZONE
BEGIN:VEVENT
DTSTAMP:20260422T140744Z
DTSTART;TZID=Europe/Berlin:20260501T140000
DTEND;TZID=Europe/Berlin:20260501T170000
SUMMARY:Öffentliche Stadtführung
CREATED:20260420T120039Z
LAST-MODIFIED:20260420T134910Z
DESCRIPTION:Führung von Bad Nauheim nach Friedberg\n\nGEFÜHRTER BESUCH AU
 S UNSERER NACHBARSTADT\n\nStadtführung von Bad Nauheim aus startend zu d
 en historischen Sehenswürdigkeiten in Friedberg. Der Gästeführer holt di
 e Teilnehmer am Treffpunkt ab\nund fährt mit ihnen gemeinsam im Linienbu
 s nach Friedberg. Nach der Stadtführung in Friedberg geht es gemeinsam w
 ieder mit dem Bus zurück nach Bad\nNauheim.\n\nStadtführung\nTourist-Inf
 ormation Bad Nauheim (In den Kolonnaden 1)\n3 Stunden inkl. Busfahrt\npr
 o Person 8 € (ermäßigt 3\,50 €) zzgl. Busfahrkarte\nAnmeldung nicht erfo
 rderlich\,\nGruppenführung auf Anfrage
LOCATION:Tourist-Information Bad Nauheim 
X-LOCATION-NAME:Tourist-Information Bad Nauheim 
X-STREET-ADDRESS:In den Kolonnaden 1
X-POSTAL-CODE:61231
X-LOCALITY:Bad Nauheim
ORGANIZER;CN=Magistrat der Stadt Friedberg:mailto:entdecke@friedberg-hess
 en.de
X-ORGANIZER-NAME:Magistrat der Stadt Friedberg
X-ORGANIZER-EMAIL:entdecke@friedberg-hessen.de
X-ORGANIZER-TELEPHONE:+49 6031 88621
X-ORGANIZER-ADDRESS-POSTALCODE:61169
X-ORGANIZER-ADDRESS-LOCALITY:Friedberg
X-ORGANIZER-ADDRESS-STREET:Schnurgasse 2
X-ORGANIZER-GEO:50.33648\;8.754515
CONTACT:entdecke@friedberg-hessen.de
X-CONTACT-EMAIL:entdecke@friedberg-hessen.de
X-IONAS-CATEGORY:Stadtführung
CATEGORIES:Stadtführung
ATTACH;FMTTYPE=image/jpeg:https://www.friedberg-hessen.de/de/kalender/gem
 eldete-termine-extern/2026/mai/2026-05-01-oeffentliche-stadtfuehrung/bur
 g-drohne-mm-1.jpg?cid=4k1.1931
UID:d9a9b3b5-d871-4a15-8155-257a73ccb9bb
END:VEVENT
END:VCALENDAR
