BEGIN:VCALENDAR
PRODID:-//IONAS//TVM//DE
VERSION:2.0
CALSCALE:GREGORIAN
BEGIN:VTIMEZONE
TZID:Europe/Berlin
LAST-MODIFIED:20201010T011803Z
TZURL:http://tzurl.org/zoneinfo/Europe/Berlin
X-LIC-LOCATION:Europe/Berlin
X-PROLEPTIC-TZNAME:LMT
BEGIN:STANDARD
TZNAME:CET
TZOFFSETFROM:+005328
TZOFFSETTO:+0100
DTSTART:18930401T000000
END:STANDARD
BEGIN:DAYLIGHT
TZNAME:CEST
TZOFFSETFROM:+0100
TZOFFSETTO:+0200
DTSTART:19160430T230000
RDATE:19400401T020000
RDATE:19430329T020000
RDATE:19460414T020000
RDATE:19470406T030000
RDATE:19480418T020000
RDATE:19490410T020000
RDATE:19800406T020000
END:DAYLIGHT
BEGIN:STANDARD
TZNAME:CET
TZOFFSETFROM:+0200
TZOFFSETTO:+0100
DTSTART:19161001T010000
RDATE:19421102T030000
RDATE:19431004T030000
RDATE:19441002T030000
RDATE:19451118T030000
RDATE:19461007T030000
END:STANDARD
BEGIN:DAYLIGHT
TZNAME:CEST
TZOFFSETFROM:+0100
TZOFFSETTO:+0200
DTSTART:19170416T020000
RRULE:FREQ=YEARLY;UNTIL=19180415T010000Z;BYMONTH=4;BYDAY=3MO
END:DAYLIGHT
BEGIN:STANDARD
TZNAME:CET
TZOFFSETFROM:+0200
TZOFFSETTO:+0100
DTSTART:19170917T030000
RRULE:FREQ=YEARLY;UNTIL=19180916T010000Z;BYMONTH=9;BYDAY=3MO
END:STANDARD
BEGIN:DAYLIGHT
TZNAME:CEST
TZOFFSETFROM:+0100
TZOFFSETTO:+0200
DTSTART:19440403T020000
RRULE:FREQ=YEARLY;UNTIL=19450402T010000Z;BYMONTH=4;BYDAY=1MO
END:DAYLIGHT
BEGIN:DAYLIGHT
TZNAME:CEMT
TZOFFSETFROM:+0200
TZOFFSETTO:+0300
DTSTART:19450524T020000
RDATE:19470511T030000
END:DAYLIGHT
BEGIN:DAYLIGHT
TZNAME:CEST
TZOFFSETFROM:+0300
TZOFFSETTO:+0200
DTSTART:19450924T030000
RDATE:19470629T030000
END:DAYLIGHT
BEGIN:STANDARD
TZNAME:CET
TZOFFSETFROM:+0100
TZOFFSETTO:+0100
DTSTART:19460101T000000
RDATE:19800101T000000
END:STANDARD
BEGIN:STANDARD
TZNAME:CET
TZOFFSETFROM:+0200
TZOFFSETTO:+0100
DTSTART:19471005T030000
RRULE:FREQ=YEARLY;UNTIL=19491002T010000Z;BYMONTH=10;BYDAY=1SU
END:STANDARD
BEGIN:STANDARD
TZNAME:CET
TZOFFSETFROM:+0200
TZOFFSETTO:+0100
DTSTART:19800928T030000
RRULE:FREQ=YEARLY;UNTIL=19950924T010000Z;BYMONTH=9;BYDAY=-1SU
END:STANDARD
BEGIN:DAYLIGHT
TZNAME:CEST
TZOFFSETFROM:+0100
TZOFFSETTO:+0200
DTSTART:19810329T020000
RRULE:FREQ=YEARLY;BYMONTH=3;BYDAY=-1SU
END:DAYLIGHT
BEGIN:STANDARD
TZNAME:CET
TZOFFSETFROM:+0200
TZOFFSETTO:+0100
DTSTART:19961027T030000
RRULE:FREQ=YEARLY;BYMONTH=10;BYDAY=-1SU
END:STANDARD
END:VTIMEZONE
BEGIN:VEVENT
DTSTAMP:20260422T140740Z
DTSTART;TZID=Europe/Berlin:20260522T170000
DTEND;TZID=Europe/Berlin:20260525T200000
SUMMARY:Friedberger Weinfest
CREATED:20260417T083525Z
LAST-MODIFIED:20260420T081825Z
DESCRIPTION:KLEIN\, FEIN UND GEMÜTLICH\n\nDer Rathauspark\, direkt hinter
  dem Friedberger Rathaus gelegen\, kann als Veranstaltungsort sehr überz
 eugen. Der Park bietet mit seinen Grünflächen und altem Baumbestand die 
 perfekte Kulisse für das Weinfest mit dem Motto „klein\, fein und gemütl
 ich“. Neben den bewährten Winzern und ihren deutschen Weinen werden auch
  internationale Weine angeboten. Ein Bierausschank\, Mixgetränke aus Wei
 n und Sekt\, nicht alkoholischen Getränke und eine erlesene Auswahl an S
 peisen runden das gastronomische Konzept ab.\n\nFreitag 22. Mai\n17:00 U
 hr bis 22:00 Uhr\n\nSamstag 23. Mai\n14:00 Uhr bis 22:00 Uhr\n\nSonntag 
 24. Mai\n12:00 Uhr bis 22:00 Uhr\n\nMontag 25. Mai\n12:00 Uhr bis 20:00 
 Uhr
LOCATION:Rathauspark
X-LOCATION-NAME:Rathauspark
X-STREET-ADDRESS:Mainzer-Tor-Anlage 6
X-POSTAL-CODE:61169
X-LOCALITY:Friedberg
ORGANIZER;CN=Magistrat der Kreisstadt Friedberg (Hessen):mailto:kulturser
 vice@friedberg-hessen.de
X-ORGANIZER-NAME:Magistrat der Kreisstadt Friedberg (Hessen)
X-ORGANIZER-EMAIL:kulturservice@friedberg-hessen.de
X-ORGANIZER-ADDRESS-POSTALCODE:61169
X-ORGANIZER-ADDRESS-LOCALITY:Friedberg
X-ORGANIZER-ADDRESS-STREET:Mainzer-Tor-Anlage 6
X-ORGANIZER-GEO:50.332706\;8.755839
X-IONAS-CATEGORY:Fest
CATEGORIES:Fest
ATTACH;FMTTYPE=image/jpeg:https://www.friedberg-hessen.de/de/kalender/gem
 eldete-termine-extern/2026/mai/2026-05-22-friedberger-weinfest/weinfest-
 kalender.jpg?cid=4em.17g7
UID:b0de7ac9-7d3b-4317-bf3d-e45736fd4017:2026-05-22
END:VEVENT
END:VCALENDAR
