BEGIN:VCALENDAR
PRODID:-//Ben Fortuna//iCal4j 1.0//EN
VERSION:2.0
CALSCALE:GREGORIAN
BEGIN:VTIMEZONE
TZID:Europe/Berlin
LAST-MODIFIED:20201010T011803Z
TZURL:http://tzurl.org/zoneinfo/Europe/Berlin
X-LIC-LOCATION:Europe/Berlin
X-PROLEPTIC-TZNAME:LMT
BEGIN:STANDARD
TZNAME:CET
TZOFFSETFROM:+005328
TZOFFSETTO:+0100
DTSTART:18930401T000000
END:STANDARD
BEGIN:DAYLIGHT
TZNAME:CEST
TZOFFSETFROM:+0100
TZOFFSETTO:+0200
DTSTART:19160430T230000
RDATE:19400401T020000
RDATE:19430329T020000
RDATE:19460414T020000
RDATE:19470406T030000
RDATE:19480418T020000
RDATE:19490410T020000
RDATE:19800406T020000
END:DAYLIGHT
BEGIN:STANDARD
TZNAME:CET
TZOFFSETFROM:+0200
TZOFFSETTO:+0100
DTSTART:19161001T010000
RDATE:19421102T030000
RDATE:19431004T030000
RDATE:19441002T030000
RDATE:19451118T030000
RDATE:19461007T030000
END:STANDARD
BEGIN:DAYLIGHT
TZNAME:CEST
TZOFFSETFROM:+0100
TZOFFSETTO:+0200
DTSTART:19170416T020000
RRULE:FREQ=YEARLY;UNTIL=19180415T010000Z;BYMONTH=4;BYDAY=3MO
END:DAYLIGHT
BEGIN:STANDARD
TZNAME:CET
TZOFFSETFROM:+0200
TZOFFSETTO:+0100
DTSTART:19170917T030000
RRULE:FREQ=YEARLY;UNTIL=19180916T010000Z;BYMONTH=9;BYDAY=3MO
END:STANDARD
BEGIN:DAYLIGHT
TZNAME:CEST
TZOFFSETFROM:+0100
TZOFFSETTO:+0200
DTSTART:19440403T020000
RRULE:FREQ=YEARLY;UNTIL=19450402T010000Z;BYMONTH=4;BYDAY=1MO
END:DAYLIGHT
BEGIN:DAYLIGHT
TZNAME:CEMT
TZOFFSETFROM:+0200
TZOFFSETTO:+0300
DTSTART:19450524T020000
RDATE:19470511T030000
END:DAYLIGHT
BEGIN:DAYLIGHT
TZNAME:CEST
TZOFFSETFROM:+0300
TZOFFSETTO:+0200
DTSTART:19450924T030000
RDATE:19470629T030000
END:DAYLIGHT
BEGIN:STANDARD
TZNAME:CET
TZOFFSETFROM:+0100
TZOFFSETTO:+0100
DTSTART:19460101T000000
RDATE:19800101T000000
END:STANDARD
BEGIN:STANDARD
TZNAME:CET
TZOFFSETFROM:+0200
TZOFFSETTO:+0100
DTSTART:19471005T030000
RRULE:FREQ=YEARLY;UNTIL=19491002T010000Z;BYMONTH=10;BYDAY=1SU
END:STANDARD
BEGIN:STANDARD
TZNAME:CET
TZOFFSETFROM:+0200
TZOFFSETTO:+0100
DTSTART:19800928T030000
RRULE:FREQ=YEARLY;UNTIL=19950924T010000Z;BYMONTH=9;BYDAY=-1SU
END:STANDARD
BEGIN:DAYLIGHT
TZNAME:CEST
TZOFFSETFROM:+0100
TZOFFSETTO:+0200
DTSTART:19810329T020000
RRULE:FREQ=YEARLY;BYMONTH=3;BYDAY=-1SU
END:DAYLIGHT
BEGIN:STANDARD
TZNAME:CET
TZOFFSETFROM:+0200
TZOFFSETTO:+0100
DTSTART:19961027T030000
RRULE:FREQ=YEARLY;BYMONTH=10;BYDAY=-1SU
END:STANDARD
END:VTIMEZONE
BEGIN:VEVENT
DTSTAMP:20260423T111418Z
DTSTART;TZID=Europe/Berlin:20260531T111500
DTEND;TZID=Europe/Berlin:20260531T131500
SUMMARY:Öffentliche Themenführung
CREATED:20260420T104937Z
LAST-MODIFIED:20260420T104937Z
DESCRIPTION:Jüdisches Friedberg\n\nAUF DEN SPUREN JÜDISCHEN LEBENS IN UNS
 ERER STADT\n\nDie Geschichte der Juden in Friedberg ist nicht nur eine G
 eschichte von Unterdrückung\, Verfolgung und Leid\, sondern auch eine de
 s Zusammenlebens von Juden und Christen in dieser Stadt. Wussten Sie zum
  Beispiel\, dass jüdische Friedberger im Stadtrat vertreten\, jüdische S
 chüler auf Friedberger Schulen gingen und die Hälfte der Spieler des VfB
  Friedberg Juden waren? Und dass anlässlich der Neueinweihung der Synago
 ge die Glocken der Stadtkirche äuteten? Auf diesem Spaziergang laden wir
  Sie ein\, auf relativ kleinem Raum einen weiten Bogen zu spannen: vom S
 ynagogenplatz über die Mikwe zum alten jüdischen Friedhof\, vom Mittelal
 ter über die Neuzeit bis zur Gegenwart – und sich so fast 800 Jahre jüdi
 sche Stadtgeschichte zu erlaufen.\n\nThemenführung\nMikwe (Judengasse 20
 )\n2 Stunden\npro Person 6 € (ermäßigt 4 €)\nAnmeldung nicht\nerforderli
 ch\, Gruppenführungen\nauf Anfrage\nHeidrun Schatanek\n\nMännliche Teiln
 ehmer werden gebeten\, für den Besuch des Jüdischen Friedhofs eine Kopfb
 edeckung mitzubringen.
LOCATION:Mikwe
X-LOCATION-NAME:Mikwe
X-STREET-ADDRESS:Judengasse 20
X-POSTAL-CODE:61169
X-LOCALITY:Friedberg
ORGANIZER;CN=Magistrat der Stadt Friedberg:mailto:entdecke@friedberg-hess
 en.de
X-ORGANIZER-NAME:Magistrat der Stadt Friedberg
X-ORGANIZER-EMAIL:entdecke@friedberg-hessen.de
X-ORGANIZER-TELEPHONE:+49 6031 88621
X-ORGANIZER-ADDRESS-POSTALCODE:61169
X-ORGANIZER-ADDRESS-LOCALITY:Friedberg
X-ORGANIZER-ADDRESS-STREET:Schnurgasse 2
CONTACT:entdecke@friedberg-hessen.de
X-CONTACT-EMAIL:entdecke@friedberg-hessen.de
X-IONAS-CATEGORY:Stadtführung
CATEGORIES:Stadtführung
UID:87c54d7b-2bf8-4e89-88f4-12600902dd2f
X-PRICE:Keine Angabe
END:VEVENT
END:VCALENDAR
