BEGIN:VCALENDAR
PRODID:-//Ben Fortuna//iCal4j 1.0//EN
VERSION:2.0
CALSCALE:GREGORIAN
BEGIN:VTIMEZONE
TZID:Europe/Berlin
LAST-MODIFIED:20201010T011803Z
TZURL:http://tzurl.org/zoneinfo/Europe/Berlin
X-LIC-LOCATION:Europe/Berlin
X-PROLEPTIC-TZNAME:LMT
BEGIN:STANDARD
TZNAME:CET
TZOFFSETFROM:+005328
TZOFFSETTO:+0100
DTSTART:18930401T000000
END:STANDARD
BEGIN:DAYLIGHT
TZNAME:CEST
TZOFFSETFROM:+0100
TZOFFSETTO:+0200
DTSTART:19160430T230000
RDATE:19400401T020000
RDATE:19430329T020000
RDATE:19460414T020000
RDATE:19470406T030000
RDATE:19480418T020000
RDATE:19490410T020000
RDATE:19800406T020000
END:DAYLIGHT
BEGIN:STANDARD
TZNAME:CET
TZOFFSETFROM:+0200
TZOFFSETTO:+0100
DTSTART:19161001T010000
RDATE:19421102T030000
RDATE:19431004T030000
RDATE:19441002T030000
RDATE:19451118T030000
RDATE:19461007T030000
END:STANDARD
BEGIN:DAYLIGHT
TZNAME:CEST
TZOFFSETFROM:+0100
TZOFFSETTO:+0200
DTSTART:19170416T020000
RRULE:FREQ=YEARLY;UNTIL=19180415T010000Z;BYMONTH=4;BYDAY=3MO
END:DAYLIGHT
BEGIN:STANDARD
TZNAME:CET
TZOFFSETFROM:+0200
TZOFFSETTO:+0100
DTSTART:19170917T030000
RRULE:FREQ=YEARLY;UNTIL=19180916T010000Z;BYMONTH=9;BYDAY=3MO
END:STANDARD
BEGIN:DAYLIGHT
TZNAME:CEST
TZOFFSETFROM:+0100
TZOFFSETTO:+0200
DTSTART:19440403T020000
RRULE:FREQ=YEARLY;UNTIL=19450402T010000Z;BYMONTH=4;BYDAY=1MO
END:DAYLIGHT
BEGIN:DAYLIGHT
TZNAME:CEMT
TZOFFSETFROM:+0200
TZOFFSETTO:+0300
DTSTART:19450524T020000
RDATE:19470511T030000
END:DAYLIGHT
BEGIN:DAYLIGHT
TZNAME:CEST
TZOFFSETFROM:+0300
TZOFFSETTO:+0200
DTSTART:19450924T030000
RDATE:19470629T030000
END:DAYLIGHT
BEGIN:STANDARD
TZNAME:CET
TZOFFSETFROM:+0100
TZOFFSETTO:+0100
DTSTART:19460101T000000
RDATE:19800101T000000
END:STANDARD
BEGIN:STANDARD
TZNAME:CET
TZOFFSETFROM:+0200
TZOFFSETTO:+0100
DTSTART:19471005T030000
RRULE:FREQ=YEARLY;UNTIL=19491002T010000Z;BYMONTH=10;BYDAY=1SU
END:STANDARD
BEGIN:STANDARD
TZNAME:CET
TZOFFSETFROM:+0200
TZOFFSETTO:+0100
DTSTART:19800928T030000
RRULE:FREQ=YEARLY;UNTIL=19950924T010000Z;BYMONTH=9;BYDAY=-1SU
END:STANDARD
BEGIN:DAYLIGHT
TZNAME:CEST
TZOFFSETFROM:+0100
TZOFFSETTO:+0200
DTSTART:19810329T020000
RRULE:FREQ=YEARLY;BYMONTH=3;BYDAY=-1SU
END:DAYLIGHT
BEGIN:STANDARD
TZNAME:CET
TZOFFSETFROM:+0200
TZOFFSETTO:+0100
DTSTART:19961027T030000
RRULE:FREQ=YEARLY;BYMONTH=10;BYDAY=-1SU
END:STANDARD
END:VTIMEZONE
BEGIN:VEVENT
DTSTAMP:20260422T140756Z
DTSTART;VALUE=DATE:20261127
DTEND;VALUE=DATE:20261228
SUMMARY:Friedberger Winterzauber
CREATED:20260421T083021Z
LAST-MODIFIED:20260421T090246Z
DESCRIPTION:Erleben Sie den „Friedberger Winterzauber“ – ein winterliches
  Highlight im historischenAmbiente der Burg! Auf der idyllischen Eisbahn
  neben dem St. Georgsbrunnen erwartet Sie ein unvergessliches Erlebnis f
 ür die ganze Familie. Schlittschuhlaufen\, Glühweinhütte und leckere Ess
 ensstände sorgen für Wohlfühlatmosphäre inmitten der Winterpracht. Genie
 ßen Sie vier Wochen voller Spaß und Abwechslung: Ob beim Eisstockschieße
 n\, Kinderdisco oder bei kreativen Bastelaktionen – hier kommen Groß und
  Klein auf ihre Kosten! Jeden Donnerstag lädt unser beliebter Feierabend
 glühwein dazu ein\, den Arbeitstag bei einem wärmenden Getränk in festli
 cher Stimmung ausklingen zu lassen. Besondere Momente garantiert auch di
 e Bühne\, auf der regelmäßig Friedberger Vereine und Chöre mit ihren Auf
 tritten für vorweihnachtliche Stimmung sorgen. Der Friedberger Winterzau
 ber – ein Wintererlebnis für alle Sinne. Kommen Sie vorbei und lassen Si
 e sich von der Atmosphäre verzaubern.
LOCATION:Burggarten
X-LOCATION-NAME:Burggarten
X-STREET-ADDRESS:In der Burg 40
X-POSTAL-CODE:61169
X-LOCALITY:Friedberg
X-REGION:Wetterau
X-COUNTRY:Deutschland
GEO:50.341396;8.753519
ORGANIZER;CN="Köhler Events":mailto:kulturservice@friedberg-hessen.de
X-ORGANIZER-NAME:Köhler Events
X-ORGANIZER-EMAIL:kulturservice@friedberg-hessen.de
X-ORGANIZER-TELEPHONE:06041 9636350
X-ORGANIZER-FAXNUMBER:06041 9636352
X-ORGANIZER-WEBSITE:https://koehler-events.de/
X-ORGANIZER-ADDRESS-POSTALCODE:61197
X-ORGANIZER-ADDRESS-LOCALITY:Florstadt
X-ORGANIZER-ADDRESS-STREET:In der Au 6
X-ORGANIZER-GEO:50.3279713\;8.9339103
CONTACT:Magistrat der Kreisstadt Friedberg (Hessen) Kulturservice\,kultur
 service@friedberg-hessen.de
X-CONTACT-GIVEN-NAME:Magistrat der Kreisstadt Friedberg (Hessen)
X-CONTACT-FAMILY-NAME:Kulturservice
X-CONTACT-EMAIL:kulturservice@friedberg-hessen.de
X-CONTACT-DEPARTMENT:Kulturservice
X-IONAS-CATEGORY:Veranstaltung
CATEGORIES:Veranstaltung
ATTACH;FMTTYPE=image/jpeg:https://www.friedberg-hessen.de/de/kalender/gem
 eldete-termine-extern/2026/november/2026-11-27-friedberger-winterzauber/
 friedbergerwinterzauber-kalender.jpg?cid=4kd.19bj
UID:e1c39ef7-9fb7-4024-92e1-0510263c377f
END:VEVENT
END:VCALENDAR
