BEGIN:VCALENDAR
PRODID:-//Ben Fortuna//iCal4j 1.0//EN
VERSION:2.0
CALSCALE:GREGORIAN
BEGIN:VTIMEZONE
TZID:Europe/Berlin
LAST-MODIFIED:20201010T011803Z
TZURL:http://tzurl.org/zoneinfo/Europe/Berlin
X-LIC-LOCATION:Europe/Berlin
X-PROLEPTIC-TZNAME:LMT
BEGIN:STANDARD
TZNAME:CET
TZOFFSETFROM:+005328
TZOFFSETTO:+0100
DTSTART:18930401T000000
END:STANDARD
BEGIN:DAYLIGHT
TZNAME:CEST
TZOFFSETFROM:+0100
TZOFFSETTO:+0200
DTSTART:19160430T230000
RDATE:19400401T020000
RDATE:19430329T020000
RDATE:19460414T020000
RDATE:19470406T030000
RDATE:19480418T020000
RDATE:19490410T020000
RDATE:19800406T020000
END:DAYLIGHT
BEGIN:STANDARD
TZNAME:CET
TZOFFSETFROM:+0200
TZOFFSETTO:+0100
DTSTART:19161001T010000
RDATE:19421102T030000
RDATE:19431004T030000
RDATE:19441002T030000
RDATE:19451118T030000
RDATE:19461007T030000
END:STANDARD
BEGIN:DAYLIGHT
TZNAME:CEST
TZOFFSETFROM:+0100
TZOFFSETTO:+0200
DTSTART:19170416T020000
RRULE:FREQ=YEARLY;UNTIL=19180415T010000Z;BYMONTH=4;BYDAY=3MO
END:DAYLIGHT
BEGIN:STANDARD
TZNAME:CET
TZOFFSETFROM:+0200
TZOFFSETTO:+0100
DTSTART:19170917T030000
RRULE:FREQ=YEARLY;UNTIL=19180916T010000Z;BYMONTH=9;BYDAY=3MO
END:STANDARD
BEGIN:DAYLIGHT
TZNAME:CEST
TZOFFSETFROM:+0100
TZOFFSETTO:+0200
DTSTART:19440403T020000
RRULE:FREQ=YEARLY;UNTIL=19450402T010000Z;BYMONTH=4;BYDAY=1MO
END:DAYLIGHT
BEGIN:DAYLIGHT
TZNAME:CEMT
TZOFFSETFROM:+0200
TZOFFSETTO:+0300
DTSTART:19450524T020000
RDATE:19470511T030000
END:DAYLIGHT
BEGIN:DAYLIGHT
TZNAME:CEST
TZOFFSETFROM:+0300
TZOFFSETTO:+0200
DTSTART:19450924T030000
RDATE:19470629T030000
END:DAYLIGHT
BEGIN:STANDARD
TZNAME:CET
TZOFFSETFROM:+0100
TZOFFSETTO:+0100
DTSTART:19460101T000000
RDATE:19800101T000000
END:STANDARD
BEGIN:STANDARD
TZNAME:CET
TZOFFSETFROM:+0200
TZOFFSETTO:+0100
DTSTART:19471005T030000
RRULE:FREQ=YEARLY;UNTIL=19491002T010000Z;BYMONTH=10;BYDAY=1SU
END:STANDARD
BEGIN:STANDARD
TZNAME:CET
TZOFFSETFROM:+0200
TZOFFSETTO:+0100
DTSTART:19800928T030000
RRULE:FREQ=YEARLY;UNTIL=19950924T010000Z;BYMONTH=9;BYDAY=-1SU
END:STANDARD
BEGIN:DAYLIGHT
TZNAME:CEST
TZOFFSETFROM:+0100
TZOFFSETTO:+0200
DTSTART:19810329T020000
RRULE:FREQ=YEARLY;BYMONTH=3;BYDAY=-1SU
END:DAYLIGHT
BEGIN:STANDARD
TZNAME:CET
TZOFFSETFROM:+0200
TZOFFSETTO:+0100
DTSTART:19961027T030000
RRULE:FREQ=YEARLY;BYMONTH=10;BYDAY=-1SU
END:STANDARD
END:VTIMEZONE
BEGIN:VEVENT
DTSTAMP:20260422T141009Z
DTSTART;TZID=Europe/Berlin:20261030T190000
DTEND;TZID=Europe/Berlin:20261030T203000
SUMMARY:Öffentliche Kostümführung
CREATED:20260419T110635Z
LAST-MODIFIED:20260420T063437Z
DESCRIPTION:Die Hex soll brennen\nEIN DUNKLES KAPITEL UNSERER\nSTADTGESCH
 ICHTE\n\nAn Halloween wird dieses dunkle Kapitel der Stadtgeschichte beh
 andelt. Es werden mögliche Stätten des Geschehens besucht. Woher kam die
 ser plötzliche Hexenwahn in der Bevölkerung? Wer war betroffen? Was stan
 d diesen Frauen bevor?\n\nKostümführung\nStadtkirche (am Brautportal geg
 enüber des Wetterau-Museums)\n1\,5 Stunden\npro Person 8 €\nAnmeldung er
 forderlich unter 06047-97 70 193\noder natur-kulturfuehrer@freenet.de\nG
 ruppenführungen auf Anfrage\nAnnette Miksch
LOCATION:Stadtkirche (am Brautportal gegenüber des Wetterau-Museums)
X-LOCATION-NAME:Stadtkirche (am Brautportal gegenüber des Wetterau-Museum
 s)
X-STREET-ADDRESS:Schnurgasse
X-POSTAL-CODE:61169
X-LOCALITY:Friedberg
ORGANIZER;CN=Magistrat der Stadt Friedberg:mailto:entdecke@friedberg-hess
 en.de
X-ORGANIZER-NAME:Magistrat der Stadt Friedberg
X-ORGANIZER-EMAIL:entdecke@friedberg-hessen.de
X-ORGANIZER-TELEPHONE:+49 6031 88621
X-ORGANIZER-FAXNUMBER:+49 6031 91276
X-ORGANIZER-ADDRESS-POSTALCODE:61169
X-ORGANIZER-ADDRESS-LOCALITY:Friedberg
X-ORGANIZER-ADDRESS-STREET:Schnurgasse 2
X-ORGANIZER-GEO:50.33648\;8.754515
X-IONAS-CATEGORY:Stadtführung
CATEGORIES:Stadtführung
UID:b7eac53b-c34f-43e2-a3a9-fb17ccba865a
END:VEVENT
END:VCALENDAR
